BEGIN:VCALENDAR
VERSION:2.0
PRODID:-//AStA - ECPv6.15.20//NONSGML v1.0//EN
CALSCALE:GREGORIAN
METHOD:PUBLISH
X-WR-CALNAME:AStA
X-ORIGINAL-URL:https://www.asta-wuppertal.de
X-WR-CALDESC:Veranstaltungen für AStA
REFRESH-INTERVAL;VALUE=DURATION:PT1H
X-Robots-Tag:noindex
X-PUBLISHED-TTL:PT1H
BEGIN:VTIMEZONE
TZID:Europe/Berlin
BEGIN:DAYLIGHT
TZOFFSETFROM:+0100
TZOFFSETTO:+0200
TZNAME:CEST
DTSTART:20240331T010000
END:DAYLIGHT
BEGIN:STANDARD
TZOFFSETFROM:+0200
TZOFFSETTO:+0100
TZNAME:CET
DTSTART:20241027T010000
END:STANDARD
BEGIN:DAYLIGHT
TZOFFSETFROM:+0100
TZOFFSETTO:+0200
TZNAME:CEST
DTSTART:20250330T010000
END:DAYLIGHT
BEGIN:STANDARD
TZOFFSETFROM:+0200
TZOFFSETTO:+0100
TZNAME:CET
DTSTART:20251026T010000
END:STANDARD
BEGIN:DAYLIGHT
TZOFFSETFROM:+0100
TZOFFSETTO:+0200
TZNAME:CEST
DTSTART:20260329T010000
END:DAYLIGHT
BEGIN:STANDARD
TZOFFSETFROM:+0200
TZOFFSETTO:+0100
TZNAME:CET
DTSTART:20261025T010000
END:STANDARD
END:VTIMEZONE
BEGIN:VEVENT
DTSTART;TZID=Europe/Berlin:20250305T140000
DTEND;TZID=Europe/Berlin:20250305T160000
DTSTAMP:20260423T003140
CREATED:20250302T214052Z
LAST-MODIFIED:20250302T214052Z
UID:4674-1741183200-1741190400@www.asta-wuppertal.de
SUMMARY:33. ordentliches AStA-Plenum
DESCRIPTION:Liebe alle\, \nWir treffen uns am 05.03.2025 um 14 Uhr zum 33. ordentlichen und vermutlich letztdem AStA-Plenum der Amtszeit 2024/25 im Großraumbüro auf der AStA-Ebene.\nBitte beachtet: Unser regelmäßiger Termin in der vorlesungsfreien Zeit für das Plenum im WiSe 24/25 wird weiterhin jeder zweite Mittwoch um 14 Uhr sein. \nWir schlagen folgende TO vor:\nTOP1 Begrüßung und Regularien\nTOP2 Anträge\nTOP3 Berichte und Projekte\nTOP4 Termine und Sonstiges \nBitte stellt eure Anträge ans Plenum im Vorfeld der Sitzung per Mail an vorsitz@asta.uni-wuppertal.de. Das entsprechende Antragsformular findet ihr auf der AStA-Webseite.\nhttps://www.asta-wuppertal.de/wp-content/uploads/2022/06/AStA-Antragsformular.pdf \nSolidarische Grüße\,
URL:https://www.asta-wuppertal.de/veranstaltungen/33-ordentliches-asta-plenum/
LOCATION:AStA-Ebene (ME.04)\, Max-Horkheimer-Str. 15\, Wuppertal\, 42119
END:VEVENT
END:VCALENDAR