BEGIN:VCALENDAR
VERSION:2.0
PRODID:-//AStA - ECPv6.15.20//NONSGML v1.0//EN
CALSCALE:GREGORIAN
METHOD:PUBLISH
X-ORIGINAL-URL:https://www.asta-wuppertal.de
X-WR-CALDESC:Veranstaltungen für AStA
REFRESH-INTERVAL;VALUE=DURATION:PT1H
X-Robots-Tag:noindex
X-PUBLISHED-TTL:PT1H
BEGIN:VTIMEZONE
TZID:Europe/Berlin
BEGIN:DAYLIGHT
TZOFFSETFROM:+0100
TZOFFSETTO:+0200
TZNAME:CEST
DTSTART:20230326T010000
END:DAYLIGHT
BEGIN:STANDARD
TZOFFSETFROM:+0200
TZOFFSETTO:+0100
TZNAME:CET
DTSTART:20231029T010000
END:STANDARD
BEGIN:DAYLIGHT
TZOFFSETFROM:+0100
TZOFFSETTO:+0200
TZNAME:CEST
DTSTART:20240331T010000
END:DAYLIGHT
BEGIN:STANDARD
TZOFFSETFROM:+0200
TZOFFSETTO:+0100
TZNAME:CET
DTSTART:20241027T010000
END:STANDARD
BEGIN:DAYLIGHT
TZOFFSETFROM:+0100
TZOFFSETTO:+0200
TZNAME:CEST
DTSTART:20250330T010000
END:DAYLIGHT
BEGIN:STANDARD
TZOFFSETFROM:+0200
TZOFFSETTO:+0100
TZNAME:CET
DTSTART:20251026T010000
END:STANDARD
END:VTIMEZONE
BEGIN:VEVENT
DTSTART;TZID=Europe/Berlin:20241002T140000
DTEND;TZID=Europe/Berlin:20241002T160000
DTSTAMP:20260422T174215
CREATED:20240925T140651Z
LAST-MODIFIED:20240925T140651Z
UID:4565-1727877600-1727884800@www.asta-wuppertal.de
SUMMARY:16. ordentliches AStA-Plenum
DESCRIPTION:Liebe alle\, \nwir treffen uns am 02.10.2024 um 14 Uhr zum 16. ordentlichen AStA-Plenum der Amtszeit 2024/25 im Großraumbüro auf der AStA-Ebene.\nUnser regelmäßiger Termin für das Plenum im WiSe 24/25 wird Mittwoch um 14 Uhr sein. \nWir schlagen folgende Tagesordnung vor:\nTOP1 Begrüßung und Regularien\nTOP2 Anträge\nTOP3 Berichte und Projekte\nTOP4 Termine und Sonstiges \nBitte stellt eure Anträge ans Plenum im Vorfeld der Sitzung per Mail an vorsitz@asta.uni-wuppertal.de. Das entsprechende Antragsformular findet ihr auf der AStA-Webseite.\nhttps://www.asta-wuppertal.de/wp-content/uploads/2022/06/AStA-Antragsformular.pdf \nSolidarische Grüße\, \nFelix\, Till und Levin
URL:https://www.asta-wuppertal.de/veranstaltungen/16-ordentliches-asta-plenum-3/
LOCATION:AStA-Ebene (ME.04)\, Max-Horkheimer-Str. 15\, Wuppertal\, 42119
END:VEVENT
BEGIN:VEVENT
DTSTART;TZID=Europe/Berlin:20241009T140000
DTEND;TZID=Europe/Berlin:20241009T170000
DTSTAMP:20260422T174215
CREATED:20241006T123648Z
LAST-MODIFIED:20241006T123648Z
UID:4572-1728482400-1728493200@www.asta-wuppertal.de
SUMMARY:17. ordentliches AStA-Plenum
DESCRIPTION:Liebe alle\, \nwir treffen uns am 09.10.2024 um 14 Uhr zum 17. ordentlichen AStA-Plenum der Amtszeit 2024/25 im Großraumbüro auf der AStA-Ebene.\nUnser regelmäßiger Termin für das Plenum im WiSe 24/25 wird Mittwoch um 14 Uhr sein. \nWir schlagen folgende Tagesordnung vor:\nTOP1 Begrüßung und Regularien\nTOP2 Anträge\nTOP3 Berichte und Projekte\nTOP4 Termine und Sonstiges \nBitte stellt eure Anträge ans Plenum im Vorfeld der Sitzung per Mail an vorsitz@asta.uni-wuppertal.de. Das entsprechende Antragsformular findet ihr auf der AStA-Webseite.\nhttps://www.asta-wuppertal.de/wp-content/uploads/2022/06/AStA-Antragsformular.pdf \nSolidarische Grüße\, \nFelix\, Till und Levin
URL:https://www.asta-wuppertal.de/veranstaltungen/17-ordentliches-asta-plenum-3/
LOCATION:AStA-Ebene (ME.04)\, Max-Horkheimer-Str. 15\, Wuppertal\, 42119
ORGANIZER;CN="AStA der Bergischen Universit%C3%A4t Wuppertal":MAILTO:asta@asta.uni-wuppertal.de
END:VEVENT
BEGIN:VEVENT
DTSTART;TZID=Europe/Berlin:20241016T140000
DTEND;TZID=Europe/Berlin:20241016T160000
DTSTAMP:20260422T174215
CREATED:20241009T100040Z
LAST-MODIFIED:20241009T100040Z
UID:4575-1729087200-1729094400@www.asta-wuppertal.de
SUMMARY:18. ordentliches AStA-Plenum
DESCRIPTION:Liebe alle\, \nwir treffen uns am 16.10.2024 um 14 Uhr zum 18. ordentlichen AStA-Plenum der Amtszeit 2024/25 im Großraumbüro auf der AStA-Ebene.\nUnser regelmäßiger Termin für das Plenum im WiSe 24/25 wird Mittwoch um 14 Uhr sein. \nWir schlagen folgende Tagesordnung vor:\nTOP1 Begrüßung und Regularien\nTOP2 Anträge\nTOP3 Berichte und Projekte\nTOP4 Termine und Sonstiges \nBitte stellt eure Anträge ans Plenum im Vorfeld der Sitzung per Mail an vorsitz@asta.uni-wuppertal.de. Das entsprechende Antragsformular findet ihr auf der AStA-Webseite.\nhttps://www.asta-wuppertal.de/wp-content/uploads/2022/06/AStA-Antragsformular.pdf \nSolidarische Grüße\, \nFelix\, Till und Levin
URL:https://www.asta-wuppertal.de/veranstaltungen/18-ordentliches-asta-plenum-3/
LOCATION:AStA-Ebene (ME.04)\, Max-Horkheimer-Str. 15\, Wuppertal\, 42119
ORGANIZER;CN="AStA der Bergischen Universit%C3%A4t Wuppertal":MAILTO:asta@asta.uni-wuppertal.de
END:VEVENT
BEGIN:VEVENT
DTSTART;TZID=Europe/Berlin:20241023T140000
DTEND;TZID=Europe/Berlin:20241023T160000
DTSTAMP:20260422T174215
CREATED:20241017T092814Z
LAST-MODIFIED:20241017T092814Z
UID:4578-1729692000-1729699200@www.asta-wuppertal.de
SUMMARY:19. ordentliches AStA-Plenum
DESCRIPTION:Liebe alle\, \nwir treffen uns am 23.10.2024 um 14 Uhr zum 19. ordentlichen AStA-Plenum der Amtszeit 2024/25 im Großraumbüro auf der AStA-Ebene.\nUnser regelmäßiger Termin für das Plenum im WiSe 24/25 wird Mittwoch um 14 Uhr sein. \nWir schlagen folgende Tagesordnung vor:\nTOP1 Begrüßung und Regularien\nTOP2 Anträge\nTOP3 Berichte und Projekte\nTOP4 Termine und Sonstiges \nBitte stellt eure Anträge ans Plenum im Vorfeld der Sitzung per Mail an vorsitz@asta.uni-wuppertal.de. Das entsprechende Antragsformular findet ihr auf der AStA-Webseite.\nhttps://www.asta-wuppertal.de/wp-content/uploads/2022/06/AStA-Antragsformular.pdf \nSolidarische Grüße\,
URL:https://www.asta-wuppertal.de/veranstaltungen/19-ordentliches-asta-plenum-3/
LOCATION:AStA-Ebene (ME.04)\, Max-Horkheimer-Str. 15\, Wuppertal\, 42119
ORGANIZER;CN="AStA der Bergischen Universit%C3%A4t Wuppertal":MAILTO:asta@asta.uni-wuppertal.de
END:VEVENT
BEGIN:VEVENT
DTSTART;TZID=Europe/Berlin:20241030T140000
DTEND;TZID=Europe/Berlin:20241030T160000
DTSTAMP:20260422T174215
CREATED:20241026T094540Z
LAST-MODIFIED:20241026T094557Z
UID:4584-1730296800-1730304000@www.asta-wuppertal.de
SUMMARY:20. ordentliches AStA-Plenum
DESCRIPTION:Liebe alle\, \nwir treffen uns am 30.10.2024 um 14 Uhr zum 20. ordentlichen AStA-Plenum der Amtszeit 2024/25 im Großraumbüro auf der AStA-Ebene.\nUnser regelmäßiger Termin für das Plenum im WiSe 24/25 wird Mittwoch um 14 Uhr sein. \nWir schlagen folgende Tagesordnung vor:\nTOP1 Begrüßung und Regularien\nTOP2 Anträge\nTOP3 Umsetzung Stupa-Beschluss: AK Antisemitismus\nTOP4 Berichte und Projekte\nTOP5 Termine und Sonstiges \nBitte stellt eure Anträge ans Plenum im Vorfeld der Sitzung per Mail an vorsitz@asta.uni-wuppertal.de. Das entsprechende Antragsformular findet ihr auf der AStA-Webseite.\nhttps://www.asta-wuppertal.de/wp-content/uploads/2022/06/AStA-Antragsformular.pdf\nSolidarische Grüße\,
URL:https://www.asta-wuppertal.de/veranstaltungen/20-ordentliches-asta-plenum-4/
LOCATION:AStA-Ebene (ME.04)\, Max-Horkheimer-Str. 15\, Wuppertal\, 42119
END:VEVENT
END:VCALENDAR