BEGIN:VCALENDAR
VERSION:2.0
PRODID:-//AStA - ECPv6.15.20//NONSGML v1.0//EN
CALSCALE:GREGORIAN
METHOD:PUBLISH
X-ORIGINAL-URL:https://www.asta-wuppertal.de
X-WR-CALDESC:Veranstaltungen für AStA
REFRESH-INTERVAL;VALUE=DURATION:PT1H
X-Robots-Tag:noindex
X-PUBLISHED-TTL:PT1H
BEGIN:VTIMEZONE
TZID:Europe/Berlin
BEGIN:DAYLIGHT
TZOFFSETFROM:+0100
TZOFFSETTO:+0200
TZNAME:CEST
DTSTART:20230326T010000
END:DAYLIGHT
BEGIN:STANDARD
TZOFFSETFROM:+0200
TZOFFSETTO:+0100
TZNAME:CET
DTSTART:20231029T010000
END:STANDARD
BEGIN:DAYLIGHT
TZOFFSETFROM:+0100
TZOFFSETTO:+0200
TZNAME:CEST
DTSTART:20240331T010000
END:DAYLIGHT
BEGIN:STANDARD
TZOFFSETFROM:+0200
TZOFFSETTO:+0100
TZNAME:CET
DTSTART:20241027T010000
END:STANDARD
BEGIN:DAYLIGHT
TZOFFSETFROM:+0100
TZOFFSETTO:+0200
TZNAME:CEST
DTSTART:20250330T010000
END:DAYLIGHT
BEGIN:STANDARD
TZOFFSETFROM:+0200
TZOFFSETTO:+0100
TZNAME:CET
DTSTART:20251026T010000
END:STANDARD
END:VTIMEZONE
BEGIN:VEVENT
DTSTART;TZID=Europe/Berlin:20240604T180000
DTEND;TZID=Europe/Berlin:20240604T200000
DTSTAMP:20260422T122121
CREATED:20240528T101520Z
LAST-MODIFIED:20240528T101520Z
UID:4483-1717524000-1717531200@www.asta-wuppertal.de
SUMMARY:1. ord Sitzung Haushaltsausschuss am 04.06.
DESCRIPTION:Liebe alle\, \nhiermit lade ich euch zur 1. ordentlichen Sitzung des Haushaltsausschusses am 04.06.2024 um 18 Uhr im AStA Großraumbüro oder in einem der Referatsbüros ein. Ich schlage dafür folgende Tagesordnung vor: \nTOP 1: Begrüßung und Regularia\nTOP 2: Beratung über den 2. Nachtragshaushalt\nTOP 3: Einführung einer Geschäftsordnung für den Haushaltsausschuss\nTOP 4: Sonstiges \nTOP2 ist insbesondere für die Klärung der offenen Fragen aus der letzten Sitzung\, insb. bei den Gehältern (siehe Protokollentwurf im Anhang)\, nötig. \nFalls ihr Anträge an den Ausschuss habt\, könnt ihr diese wie üblich rechtzeitig vorher einreichen. \nLieber AStA-Vorsitz\, Liebes StuPa-Präs\, könnt ihr die Einladung auf euren Homepages veröffentlichen? Danke! 🙂 \nViele Grüße\nLea
URL:https://www.asta-wuppertal.de/veranstaltungen/1-ord-sitzung-haushaltsausschuss-am-04-06/
LOCATION:AStA-Ebene (ME.04)\, Max-Horkheimer-Str. 15\, Wuppertal\, 42119
END:VEVENT
BEGIN:VEVENT
DTSTART;TZID=Europe/Berlin:20240612T140000
DTEND;TZID=Europe/Berlin:20240612T160000
DTSTAMP:20260422T122121
CREATED:20240609T183005Z
LAST-MODIFIED:20240609T183005Z
UID:4494-1718200800-1718208000@www.asta-wuppertal.de
SUMMARY:9. ordentliches AStA-Plenum
DESCRIPTION:Liebe alle\, \nwir treffen uns am 12.06.2024 um 14 Uhr zum 9. ordentlichen AStA-Plenum der Amtszeit 2024/25 im Großraumbüro auf der AStA-Ebene.\nUnser regelmäßiger Termin für das Plenum wird im Sommersemester Mittwoch\, 14 Uhr sein. \nWir schlagen folgende Tagesordnung vor:\nTOP1 Begrüßung und Regularien\nTOP2 Anträge\nTOP3 Berichte und Projekte\nTOP4 Termine und Sonstiges \nBitte stellt eure Anträge ans Plenum im Vorfeld der Sitzung per Mail an vorsitz@asta.uni-wuppertal.de. Das entsprechende Antragsformular findet ihr auf der AStA-Webseite.\nhttps://www.asta-wuppertal.de/wp-content/uploads/2022/06/AStA-Antragsformular.pdf \nSolidarische Grüße\, \nFelix\, Till und Levin
URL:https://www.asta-wuppertal.de/veranstaltungen/9-ordentliches-asta-plenum-4/
LOCATION:AStA-Ebene (ME.04)\, Max-Horkheimer-Str. 15\, Wuppertal\, 42119
ORGANIZER;CN="AStA der Bergischen Universit%C3%A4t Wuppertal":MAILTO:asta@asta.uni-wuppertal.de
END:VEVENT
BEGIN:VEVENT
DTSTART;TZID=Europe/Berlin:20240619T140000
DTEND;TZID=Europe/Berlin:20240619T160000
DTSTAMP:20260422T122121
CREATED:20240616T204645Z
LAST-MODIFIED:20240616T204645Z
UID:4496-1718805600-1718812800@www.asta-wuppertal.de
SUMMARY:10. ordentliches AStA-Plenum
DESCRIPTION:Liebe alle\, \nwir treffen uns am 19.06.2024 um 14 Uhr zum 10. ordentlichen AStA-Plenum der Amtszeit 2024/25 im Großraumbüro auf der AStA-Ebene.\nUnser regelmäßiger Termin für das Plenum wird im Sommersemester Mittwoch\, 14 Uhr sein. \nWir schlagen folgende Tagesordnung vor:\nTOP1 Begrüßung und Regularien\nTOP2 Anträge\nTOP3 Berichte und Projekte\nTOP4 Termine und Sonstiges \nBitte stellt eure Anträge ans Plenum im Vorfeld der Sitzung per Mail an vorsitz@asta.uni-wuppertal.de. Das entsprechende Antragsformular findet ihr auf der AStA-Webseite.\nhttps://www.asta-wuppertal.de/wp-content/uploads/2022/06/AStA-Antragsformular.pdf \nSolidarische Grüße\, \nFelix\, Till und Levin
URL:https://www.asta-wuppertal.de/veranstaltungen/10-ordentliches-asta-plenum-2/
LOCATION:AStA-Ebene (ME.04)\, Max-Horkheimer-Str. 15\, Wuppertal\, 42119
ORGANIZER;CN="AStA der Bergischen Universit%C3%A4t Wuppertal":MAILTO:asta@asta.uni-wuppertal.de
END:VEVENT
BEGIN:VEVENT
DTSTART;TZID=Europe/Berlin:20240626T140000
DTEND;TZID=Europe/Berlin:20240626T160000
DTSTAMP:20260422T122121
CREATED:20240623T195704Z
LAST-MODIFIED:20240623T195704Z
UID:4508-1719410400-1719417600@www.asta-wuppertal.de
SUMMARY:11. ordentliches AStA-Plenum
DESCRIPTION:Liebe alle\, \nwir treffen uns am 26.06.2024 um 14 Uhr zum 11. ordentlichen AStA-Plenum der Amtszeit 2024/25 im Großraumbüro auf der AStA-Ebene.\nUnser regelmäßiger Termin für das Plenum wird im Sommersemester Mittwoch\, 14 Uhr sein. \nWir schlagen folgende Tagesordnung vor:\nTOP1 Begrüßung und Regularien\nTOP2 Anträge\nTOP3 Berichte und Projekte\nTOP4 Termine und Sonstiges \nBitte stellt eure Anträge ans Plenum im Vorfeld der Sitzung per Mail an vorsitz@asta.uni-wuppertal.de. Das entsprechende Antragsformular findet ihr auf der AStA-Webseite.\nhttps://www.asta-wuppertal.de/wp-content/uploads/2022/06/AStA-Antragsformular.pdf \nSolidarische Grüße\, \nFelix\, Till und Levin
URL:https://www.asta-wuppertal.de/veranstaltungen/11-ordentliches-asta-plenum-2/
LOCATION:AStA-Ebene (ME.04)\, Max-Horkheimer-Str. 15\, Wuppertal\, 42119
ORGANIZER;CN="AStA der Bergischen Universit%C3%A4t Wuppertal":MAILTO:asta@asta.uni-wuppertal.de
END:VEVENT
END:VCALENDAR