BEGIN:VCALENDAR
VERSION:2.0
PRODID:-//AStA - ECPv6.15.20//NONSGML v1.0//EN
CALSCALE:GREGORIAN
METHOD:PUBLISH
X-ORIGINAL-URL:https://www.asta-wuppertal.de
X-WR-CALDESC:Veranstaltungen für AStA
REFRESH-INTERVAL;VALUE=DURATION:PT1H
X-Robots-Tag:noindex
X-PUBLISHED-TTL:PT1H
BEGIN:VTIMEZONE
TZID:Europe/Berlin
BEGIN:DAYLIGHT
TZOFFSETFROM:+0100
TZOFFSETTO:+0200
TZNAME:CEST
DTSTART:20230326T010000
END:DAYLIGHT
BEGIN:STANDARD
TZOFFSETFROM:+0200
TZOFFSETTO:+0100
TZNAME:CET
DTSTART:20231029T010000
END:STANDARD
BEGIN:DAYLIGHT
TZOFFSETFROM:+0100
TZOFFSETTO:+0200
TZNAME:CEST
DTSTART:20240331T010000
END:DAYLIGHT
BEGIN:STANDARD
TZOFFSETFROM:+0200
TZOFFSETTO:+0100
TZNAME:CET
DTSTART:20241027T010000
END:STANDARD
BEGIN:DAYLIGHT
TZOFFSETFROM:+0100
TZOFFSETTO:+0200
TZNAME:CEST
DTSTART:20250330T010000
END:DAYLIGHT
BEGIN:STANDARD
TZOFFSETFROM:+0200
TZOFFSETTO:+0100
TZNAME:CET
DTSTART:20251026T010000
END:STANDARD
END:VTIMEZONE
BEGIN:VEVENT
DTSTART;TZID=Europe/Berlin:20240201T200000
DTEND;TZID=Europe/Berlin:20240202T020000
DTSTAMP:20260422T063225
CREATED:20230911T133725Z
LAST-MODIFIED:20230911T133725Z
UID:4192-1706817600-1706839200@www.asta-wuppertal.de
SUMMARY:Bier & Spiele
DESCRIPTION:
URL:https://www.asta-wuppertal.de/veranstaltungen/bier-spiele-2/
LOCATION:AStA-Ebene (ME.04)\, Max-Horkheimer-Str. 15\, Wuppertal\, 42119
END:VEVENT
BEGIN:VEVENT
DTSTART;TZID=Europe/Berlin:20240214T140000
DTEND;TZID=Europe/Berlin:20240214T153000
DTSTAMP:20260422T063225
CREATED:20240211T131741Z
LAST-MODIFIED:20240211T131741Z
UID:4348-1707919200-1707924600@www.asta-wuppertal.de
SUMMARY:28. ordentliches AStA-Plenum
DESCRIPTION:Ihr seid herzlich eingeladen zum 28. ordentlichen AStA-Plenum der Amtszeit 2023/24 am 14.02.2024 um 14 Uhr auf der AStA-Ebene (ME.04) im Großraumbüro. \n  \nFolgende Tagesordnung würden wir vorschlagen: \nTOP1 Begrüßung und Regularien \nTOP2 Anträge \nTOP3 Berichte und Projekte \nTOP4 Termine und Sonstiges \n  \nBitte schickt eure Anträge bis Mittwoch\, 14.02. um 12 Uhr an vorsitz[at]asta.uni-wuppertal.de.
URL:https://www.asta-wuppertal.de/veranstaltungen/28-ordentliches-asta-plenum/
LOCATION:AStA-Ebene (ME.04)\, Max-Horkheimer-Str. 15\, Wuppertal\, 42119
END:VEVENT
BEGIN:VEVENT
DTSTART;TZID=Europe/Berlin:20240228T140000
DTEND;TZID=Europe/Berlin:20240228T153000
DTSTAMP:20260422T063225
CREATED:20240224T121842Z
LAST-MODIFIED:20240224T121842Z
UID:4361-1709128800-1709134200@www.asta-wuppertal.de
SUMMARY:29. ordentliches AStA-Plenum
DESCRIPTION:Hiermit seid ihr herzlich zum 29. ordentlichen AStA-Plenum der Amtszeit 2023/24 eingeladen\, das am 28.02.2024 um 14 Uhr im Großraumbüro auf der AStA-Ebene (ME04) stattfindet. \nWir schlagen folgende Tagesordnung vor:\nTOP1 Begrüßung und Regularien\nTOP2 Anträge\nTOP3 Berichte und Projekte\nTOP4 Termine und Sonstiges \nWir bitten eure Anträge bis 12 Uhr am Sitzungstag per Mail an vorsitz[at]asta.uni-wuppertal.de zu schicken.
URL:https://www.asta-wuppertal.de/veranstaltungen/29-ordentliches-asta-plenum/
LOCATION:AStA-Ebene (ME.04)\, Max-Horkheimer-Str. 15\, Wuppertal\, 42119
END:VEVENT
END:VCALENDAR