BEGIN:VCALENDAR
VERSION:2.0
PRODID:-//AStA - ECPv6.15.20//NONSGML v1.0//EN
CALSCALE:GREGORIAN
METHOD:PUBLISH
X-ORIGINAL-URL:https://www.asta-wuppertal.de
X-WR-CALDESC:Veranstaltungen für AStA
REFRESH-INTERVAL;VALUE=DURATION:PT1H
X-Robots-Tag:noindex
X-PUBLISHED-TTL:PT1H
BEGIN:VTIMEZONE
TZID:Europe/Berlin
BEGIN:DAYLIGHT
TZOFFSETFROM:+0100
TZOFFSETTO:+0200
TZNAME:CEST
DTSTART:20230326T010000
END:DAYLIGHT
BEGIN:STANDARD
TZOFFSETFROM:+0200
TZOFFSETTO:+0100
TZNAME:CET
DTSTART:20231029T010000
END:STANDARD
BEGIN:DAYLIGHT
TZOFFSETFROM:+0100
TZOFFSETTO:+0200
TZNAME:CEST
DTSTART:20240331T010000
END:DAYLIGHT
BEGIN:STANDARD
TZOFFSETFROM:+0200
TZOFFSETTO:+0100
TZNAME:CET
DTSTART:20241027T010000
END:STANDARD
BEGIN:DAYLIGHT
TZOFFSETFROM:+0100
TZOFFSETTO:+0200
TZNAME:CEST
DTSTART:20250330T010000
END:DAYLIGHT
BEGIN:STANDARD
TZOFFSETFROM:+0200
TZOFFSETTO:+0100
TZNAME:CET
DTSTART:20251026T010000
END:STANDARD
END:VTIMEZONE
BEGIN:VEVENT
DTSTART;TZID=Europe/Berlin:20240110T140000
DTEND;TZID=Europe/Berlin:20240110T160000
DTSTAMP:20260422T063220
CREATED:20240107T132851Z
LAST-MODIFIED:20240107T132851Z
UID:4315-1704895200-1704902400@www.asta-wuppertal.de
SUMMARY:25. ordentliches AStA-Plenum
DESCRIPTION:Das 25. ordentlichen AStA-Plenum der Amtszeit 2023/24 wird am 10.01.2024 um 14 Uhr auf der AStA-Ebene (ME.04) im Großraumbüro stattfinden. \nFolgende Tagesordnung würden wir vorschlagen:\nTOP1 Begrüßung und Regularien\nTOP2 Anträge\nTOP3 Semesterticket\nTOP4 Berichte und Projekte\nTOP5 Termine und Sonstiges \nBitte schickt eure Anträge bis Mittwoch 12 Uhr an vorsitz[at]asta.uni-wuppertal.de.
URL:https://www.asta-wuppertal.de/veranstaltungen/25-ordentliches-asta-plenum-2/
LOCATION:AStA-Ebene (ME.04)\, Max-Horkheimer-Str. 15\, Wuppertal\, 42119
END:VEVENT
BEGIN:VEVENT
DTSTART;TZID=Europe/Berlin:20240117T140000
DTEND;TZID=Europe/Berlin:20240117T160000
DTSTAMP:20260422T063220
CREATED:20240114T145419Z
LAST-MODIFIED:20240114T145419Z
UID:4336-1705500000-1705507200@www.asta-wuppertal.de
SUMMARY:26. ordentliches AStA-Plenum
DESCRIPTION:Das 26. ordentliche AStA-Plenum der Amtszeit 2023/24 wird am 17.01.2024 um 14 Uhr auf der AStA-Ebene (ME.04) im Großraumbüro stattfinden. \nFolgende Tagesordnung würden wir vorschlagen:\nTOP1 Begrüßung und Regularien\nTOP2 Anträge\nTOP3 Semesterticket\nTOP4 Berichte und Projekte\nTOP5 Termine und Sonstiges \nBitte schickt eure Anträge bis Mittwoch 12 Uhr an vorsitz[at]asta.uni-wuppertal.de.
URL:https://www.asta-wuppertal.de/veranstaltungen/26-ordentliches-asta-plenum-2/
LOCATION:AStA-Ebene (ME.04)\, Max-Horkheimer-Str. 15\, Wuppertal\, 42119
END:VEVENT
BEGIN:VEVENT
DTSTART;TZID=Europe/Berlin:20240124T140000
DTEND;TZID=Europe/Berlin:20240124T160000
DTSTAMP:20260422T063220
CREATED:20240118T094834Z
LAST-MODIFIED:20240118T094834Z
UID:4344-1706104800-1706112000@www.asta-wuppertal.de
SUMMARY:27. ordentliches AStA-Plenum
DESCRIPTION:Das 27. ordentliche AStA-Plenum der Amtszeit 2023/24 wird am 24.01.2024 um 14 Uhr auf der AStA-Ebene (ME.04) im Großraumbüro stattfinden. \nFolgende Tagesordnung würden wir vorschlagen:\nTOP1 Begrüßung und Regularien\nTOP2 Anträge\nTOP3 Berichte und Projekte\nTOP4 Termine und Sonstiges \nBitte schickt eure Anträge bis Mittwoch\, 24.01. um 12 Uhr an vorsitz[at]asta.uni-wuppertal.de.
URL:https://www.asta-wuppertal.de/veranstaltungen/27-ordentliches-asta-plenum/
LOCATION:AStA-Ebene (ME.04)\, Max-Horkheimer-Str. 15\, Wuppertal\, 42119
END:VEVENT
BEGIN:VEVENT
DTSTART;TZID=Europe/Berlin:20240125T190000
DTEND;TZID=Europe/Berlin:20240126T000000
DTSTAMP:20260422T063220
CREATED:20230911T133535Z
LAST-MODIFIED:20230911T133535Z
UID:4190-1706209200-1706227200@www.asta-wuppertal.de
SUMMARY:Pubquiz
DESCRIPTION:Einlass 19 Uhr\, Beginn gegen 20 Uhr
URL:https://www.asta-wuppertal.de/veranstaltungen/pubquiz-3/
LOCATION:AStA-Ebene (ME.04)\, Max-Horkheimer-Str. 15\, Wuppertal\, 42119
END:VEVENT
BEGIN:VEVENT
DTSTART;TZID=Europe/Berlin:20240130T180000
DTEND;TZID=Europe/Berlin:20240130T193000
DTSTAMP:20260422T063220
CREATED:20230913T110038Z
LAST-MODIFIED:20231218T142954Z
UID:4219-1706637600-1706643000@www.asta-wuppertal.de
SUMMARY:Nachhaltigen Konsum ermöglichen - eine Gemeinschaftsaufgabe? (Ringvorlesung)
DESCRIPTION:Den letzten Termin der Ringvorlesung „Klimakrise & Nachhaltigkeit“ werden Laura Behrmann und vorauss. Markus Kühlert für euch gestalten. \nTerminverschiebung! 30.1.\, 18 Uhr\, AStA-Ebene!
URL:https://www.asta-wuppertal.de/veranstaltungen/nachhaltigen-konsum-ermoeglichen-eine-gemeinschaftsaufgabe-ringvorlesung/
LOCATION:AStA-Ebene (ME.04)\, Max-Horkheimer-Str. 15\, Wuppertal\, 42119
END:VEVENT
END:VCALENDAR