BEGIN:VCALENDAR
VERSION:2.0
PRODID:-//AStA - ECPv6.15.20//NONSGML v1.0//EN
CALSCALE:GREGORIAN
METHOD:PUBLISH
X-ORIGINAL-URL:https://www.asta-wuppertal.de
X-WR-CALDESC:Veranstaltungen für AStA
REFRESH-INTERVAL;VALUE=DURATION:PT1H
X-Robots-Tag:noindex
X-PUBLISHED-TTL:PT1H
BEGIN:VTIMEZONE
TZID:Europe/Berlin
BEGIN:DAYLIGHT
TZOFFSETFROM:+0100
TZOFFSETTO:+0200
TZNAME:CEST
DTSTART:20220327T010000
END:DAYLIGHT
BEGIN:STANDARD
TZOFFSETFROM:+0200
TZOFFSETTO:+0100
TZNAME:CET
DTSTART:20221030T010000
END:STANDARD
BEGIN:DAYLIGHT
TZOFFSETFROM:+0100
TZOFFSETTO:+0200
TZNAME:CEST
DTSTART:20230326T010000
END:DAYLIGHT
BEGIN:STANDARD
TZOFFSETFROM:+0200
TZOFFSETTO:+0100
TZNAME:CET
DTSTART:20231029T010000
END:STANDARD
BEGIN:DAYLIGHT
TZOFFSETFROM:+0100
TZOFFSETTO:+0200
TZNAME:CEST
DTSTART:20240331T010000
END:DAYLIGHT
BEGIN:STANDARD
TZOFFSETFROM:+0200
TZOFFSETTO:+0100
TZNAME:CET
DTSTART:20241027T010000
END:STANDARD
END:VTIMEZONE
BEGIN:VEVENT
DTSTART;TZID=Europe/Berlin:20231107T180000
DTEND;TZID=Europe/Berlin:20231107T193000
DTSTAMP:20260422T020322
CREATED:20230911T130312Z
LAST-MODIFIED:20231011T145318Z
UID:4175-1699380000-1699385400@www.asta-wuppertal.de
SUMMARY:Die Stadt der Zukunft: Nachhaltigkeit\, Partizipation und urbane Governance (Ringvorlesung)
DESCRIPTION:Für diesen Termin der Ringvorlesung „Klimakrise & Nachhaltigkeit“ sind Detlef Sack und Lynn Verheyen bei uns zu Gast.
URL:https://www.asta-wuppertal.de/veranstaltungen/die-stadt-der-zukunft-nachhaltigkeit-partizipation-und-urbane-governance-ringvorlesung/
LOCATION:AStA-Ebene (ME.04)\, Max-Horkheimer-Str. 15\, Wuppertal\, 42119
END:VEVENT
BEGIN:VEVENT
DTSTART;TZID=Europe/Berlin:20231108T140000
DTEND;TZID=Europe/Berlin:20231108T160000
DTSTAMP:20260422T020322
CREATED:20231105T215104Z
LAST-MODIFIED:20231105T215104Z
UID:4288-1699452000-1699459200@www.asta-wuppertal.de
SUMMARY:21. ordentliches AStA-Plenum
DESCRIPTION:Hiermit laden wir euch zum 21. ordentlichen AStA-Plenum am 08.11.2023 um 14 Uhr ein. Das Plenum findet im Großraumbüro auf der AStA-Ebene (ME04) statt.\nWir schlagen folgende Tagesordnung vor:\nTOP1 Begrüßung und Regularien\nTOP2 Anträge\nTOP3 Weihnachtsfeier des AStAs\nTOP4 Berichte und Projekte\nTOP5 Termine und Sonstiges
URL:https://www.asta-wuppertal.de/veranstaltungen/21-ordentliches-asta-plenum/
LOCATION:AStA-Ebene (ME.04)\, Max-Horkheimer-Str. 15\, Wuppertal\, 42119
END:VEVENT
BEGIN:VEVENT
DTSTART;TZID=Europe/Berlin:20231109T100000
DTEND;TZID=Europe/Berlin:20231109T170000
DTSTAMP:20260422T020322
CREATED:20231108T130843Z
LAST-MODIFIED:20231108T130843Z
UID:4290-1699524000-1699549200@www.asta-wuppertal.de
SUMMARY:4. außerordentliche Sitzung des Haushaltsausschuss
DESCRIPTION:Hiermit lade ich euch zur 4. Außerordentlichen Sitzung des HHAs ein. Die Sitzung findet am Donnerstag\, den 09.11.23 um 10:00 Uhr über Zoom statt. \nDies ist der folgende Vorschlag zur Tagesordnung: \nTOP1  Begrüßung und Regularia\nTOP2  Nachtragshaushalt (siehe E-Mail von Simon)\nTOP3  Termine und Sonstiges \nAnbei findet ihr die Einwahldaten für Zoom: \nSujet: HHA – 4. Außerordentliche Sitzung\nHeure: 9 nov. 2023 10:00 AM Amsterdam\, Berlin\, Rome\, Stockholm\, Vienne \nhttps://uni-wuppertal.zoom.us/j/67287763943?pwd=OWVOQVJOZHg0SlJqbE9tZE1jaHA2UT09 \nID de réunion: 672 8776 3943\nCode secret: Mi0Uxwpf
URL:https://www.asta-wuppertal.de/veranstaltungen/4-ausserordentliche-sitzung-des-haushaltsausschuss/
END:VEVENT
BEGIN:VEVENT
DTSTART;TZID=Europe/Berlin:20231116T180000
DTEND;TZID=Europe/Berlin:20231116T180000
DTSTAMP:20260422T020322
CREATED:20230911T132359Z
LAST-MODIFIED:20230911T132359Z
UID:4186-1700157600-1700157600@www.asta-wuppertal.de
SUMMARY:Vortrag mit Tadzio Müller
DESCRIPTION:
URL:https://www.asta-wuppertal.de/veranstaltungen/vortrag-mit-tadzio-mueller/
LOCATION:AStA-Ebene (ME.04)\, Max-Horkheimer-Str. 15\, Wuppertal\, 42119
END:VEVENT
BEGIN:VEVENT
DTSTART;TZID=Europe/Berlin:20231121T180000
DTEND;TZID=Europe/Berlin:20231121T193000
DTSTAMP:20260422T020322
CREATED:20230911T125728Z
LAST-MODIFIED:20231011T145608Z
UID:4169-1700589600-1700595000@www.asta-wuppertal.de
SUMMARY:Leugnen\, Verharmlosen\, Verzögern: Kommunikationsstrategien organisierter Interessen in der Klimapolitik (Ringvorlesung)
DESCRIPTION:Für diesen Termin der Ringvorlesung „Klimakrise & Nachhaltigkeit“ werden Anna Leuschner und Wolfgang Obergassel die Referent*innensein. Freut euch auf einen spannenden Vortrag!
URL:https://www.asta-wuppertal.de/veranstaltungen/leugnen-verharmlosen-verzoegern-kommunikationsstrategien-organisierter-interessen-in-der-klimapolitik/
LOCATION:AStA-Ebene (ME.04)\, Max-Horkheimer-Str. 15\, Wuppertal\, 42119
END:VEVENT
BEGIN:VEVENT
DTSTART;TZID=Europe/Berlin:20231122T140000
DTEND;TZID=Europe/Berlin:20231122T160000
DTSTAMP:20260422T020322
CREATED:20231119T131045Z
LAST-MODIFIED:20231119T131045Z
UID:4297-1700661600-1700668800@www.asta-wuppertal.de
SUMMARY:22. ordentliches AStA-Plenum
DESCRIPTION:Das 22. ordentliche AStA-Plenum der Amtszeit 2023/24 wird am 22.11.2023 um 14 Uhr auf der AStA-Ebene (ME.04) im Großraumbüro stattfinden. \nFolgende Tagesordnung würden wir vorschlagen:\nTOP1 Begrüßung und Regularien\nTOP2 Anträge\nTOP3 Updates Semesterticket\nTOP4 Berichte und Projekte\nTOP5 Termine und Sonstiges \nBitte schickt eure Anträge bis Mittwoch 12 Uhr an vorsitz[at]asta.uni-wuppertal.de.
URL:https://www.asta-wuppertal.de/veranstaltungen/22-ordentliches-asta-plenum-2/
LOCATION:AStA-Ebene (ME.04)\, Max-Horkheimer-Str. 15\, Wuppertal\, 42119
END:VEVENT
BEGIN:VEVENT
DTSTART;TZID=Europe/Berlin:20231122T180000
DTEND;TZID=Europe/Berlin:20231122T180000
DTSTAMP:20260422T020322
CREATED:20230911T132950Z
LAST-MODIFIED:20230911T132950Z
UID:4188-1700676000-1700676000@www.asta-wuppertal.de
SUMMARY:Science Slam NACHHALTIGKEIT
DESCRIPTION:Wir unterstützen den Science Slam des Wuppertal Instituts und der Uni. Weitere Informationen findet ihr hier.
URL:https://www.asta-wuppertal.de/veranstaltungen/science-slam-nachhaltigkeit/
LOCATION:AStA-Ebene (ME.04)\, Max-Horkheimer-Str. 15\, Wuppertal\, 42119
ORGANIZER;CN="AStA der Bergischen Universit%C3%A4t Wuppertal":MAILTO:asta@asta.uni-wuppertal.de
END:VEVENT
BEGIN:VEVENT
DTSTART;TZID=Europe/Berlin:20231129T140000
DTEND;TZID=Europe/Berlin:20231129T160000
DTSTAMP:20260422T020322
CREATED:20231126T115208Z
LAST-MODIFIED:20231126T115208Z
UID:4301-1701266400-1701273600@www.asta-wuppertal.de
SUMMARY:23. ordentliches AStA-Plenum
DESCRIPTION:Das 23. ordentliche AStA-Plenum der Amtszeit 2023/24 wird am 29.11.2023 um 14 Uhr auf der AStA-Ebene (ME.04) im Großraumbüro stattfinden. \nFolgende Tagesordnung würden wir vorschlagen:\nTOP1 Begrüßung und Regularien\nTOP2 Anträge\nTOP3 Berichte und Projekte\nTOP4 Termine und Sonstiges \nBitte schickt eure Anträge bis Mittwoch\, 29.11.2023 12 Uhr an vorsitz[at]asta.uni-wuppertal.de.
URL:https://www.asta-wuppertal.de/veranstaltungen/23-ordentliches-asta-plenum-2/
LOCATION:AStA-Ebene (ME.04)\, Max-Horkheimer-Str. 15\, Wuppertal\, 42119
END:VEVENT
BEGIN:VEVENT
DTSTART;TZID=Europe/Berlin:20231130T190000
DTEND;TZID=Europe/Berlin:20231201T000000
DTSTAMP:20260422T020322
CREATED:20230911T132113Z
LAST-MODIFIED:20230911T132113Z
UID:4184-1701370800-1701388800@www.asta-wuppertal.de
SUMMARY:Pubquiz
DESCRIPTION:Einlass um 19 Uhr\, Beginn gegen 20 Uhr
URL:https://www.asta-wuppertal.de/veranstaltungen/pubquiz-2/
LOCATION:AStA-Ebene (ME.04)\, Max-Horkheimer-Str. 15\, Wuppertal\, 42119
END:VEVENT
END:VCALENDAR