BEGIN:VCALENDAR
VERSION:2.0
PRODID:-//AStA - ECPv6.15.20//NONSGML v1.0//EN
CALSCALE:GREGORIAN
METHOD:PUBLISH
X-WR-CALNAME:AStA
X-ORIGINAL-URL:https://www.asta-wuppertal.de
X-WR-CALDESC:Veranstaltungen für AStA
REFRESH-INTERVAL;VALUE=DURATION:PT1H
X-Robots-Tag:noindex
X-PUBLISHED-TTL:PT1H
BEGIN:VTIMEZONE
TZID:Europe/Berlin
BEGIN:DAYLIGHT
TZOFFSETFROM:+0100
TZOFFSETTO:+0200
TZNAME:CEST
DTSTART:20220327T010000
END:DAYLIGHT
BEGIN:STANDARD
TZOFFSETFROM:+0200
TZOFFSETTO:+0100
TZNAME:CET
DTSTART:20221030T010000
END:STANDARD
BEGIN:DAYLIGHT
TZOFFSETFROM:+0100
TZOFFSETTO:+0200
TZNAME:CEST
DTSTART:20230326T010000
END:DAYLIGHT
BEGIN:STANDARD
TZOFFSETFROM:+0200
TZOFFSETTO:+0100
TZNAME:CET
DTSTART:20231029T010000
END:STANDARD
BEGIN:DAYLIGHT
TZOFFSETFROM:+0100
TZOFFSETTO:+0200
TZNAME:CEST
DTSTART:20240331T010000
END:DAYLIGHT
BEGIN:STANDARD
TZOFFSETFROM:+0200
TZOFFSETTO:+0100
TZNAME:CET
DTSTART:20241027T010000
END:STANDARD
END:VTIMEZONE
BEGIN:VEVENT
DTSTART;TZID=Europe/Berlin:20231004T160000
DTEND;TZID=Europe/Berlin:20231004T160000
DTSTAMP:20260422T003914
CREATED:20230930T143145Z
LAST-MODIFIED:20230930T143145Z
UID:4234-1696435200-1696435200@www.asta-wuppertal.de
SUMMARY:18. ordentliches AStA-Plenum
DESCRIPTION:Das 18. ordentlichen AStA-Plenum der Amtszeit 2023/24 wird am 04.10.2023 um 16 Uhr auf der AStA-Ebene (ME.04) im Großraumbüro stattfinden. \nFolgende Tagesordnung würden wir vorschlagen:\nTOP1 Begrüßung und Regularien\nTOP2 Anträge\nTOP3 Berichte und Projekte\nTOP4 Termine und Sonstiges \nBitte schickt eure Anträge bis Mittwoch 14 Uhr an vorsitz[at]asta.uni-wuppertal.de.
URL:https://www.asta-wuppertal.de/veranstaltungen/18-ordentliches-asta-plenum-2/
LOCATION:AStA-Ebene (ME.04)\, Max-Horkheimer-Str. 15\, Wuppertal\, 42119
END:VEVENT
BEGIN:VEVENT
DTSTART;TZID=Europe/Berlin:20231006T110000
DTEND;TZID=Europe/Berlin:20231006T110000
DTSTAMP:20260422T003914
CREATED:20230927T181313Z
LAST-MODIFIED:20230927T181313Z
UID:4231-1696590000-1696590000@www.asta-wuppertal.de
SUMMARY:3. ordentliche Sitzung des Haushaltsausschuss
DESCRIPTION:Die 3. ordentlichen Sitzung des Haushaltsausschusses wird am Freitag\, den 06.10.2023 um 11 Uhr über Zoom stattfinden. Die entsprechenden Einwahldaten stellt das StuPa-Präsidium auf Anfrage (stupapraes{@}asta.uni-wuppertal.de) zur Verfügung. \nFolgende Tagesordnung wurde vorgeschlagen: \nTOP1 Begrüßung und Regularia\nTOP2 Nachtragshaushalt\nTOP3 Termine und Sonstiges
URL:https://www.asta-wuppertal.de/veranstaltungen/3-ordentliche-sitzung-des-haushaltsausschuss/
LOCATION:Zoom
END:VEVENT
BEGIN:VEVENT
DTSTART;TZID=Europe/Berlin:20231009T140000
DTEND;TZID=Europe/Berlin:20231009T220000
DTSTAMP:20260422T003914
CREATED:20230911T124949Z
LAST-MODIFIED:20230911T124949Z
UID:4163-1696860000-1696888800@www.asta-wuppertal.de
SUMMARY:Campus-Festival
DESCRIPTION:Startet gemeinsam mit uns bei (Live-)Musik und kalten Getränken ins Semester und lernt euch gegenseitig Kennen!
URL:https://www.asta-wuppertal.de/veranstaltungen/campus-festival/
LOCATION:AStA-Ebene (ME.04)\, Max-Horkheimer-Str. 15\, Wuppertal\, 42119
END:VEVENT
BEGIN:VEVENT
DTSTART;TZID=Europe/Berlin:20231011T120000
DTEND;TZID=Europe/Berlin:20231011T163000
DTSTAMP:20260422T003914
CREATED:20231011T144452Z
LAST-MODIFIED:20231011T144452Z
UID:4245-1697025600-1697041800@www.asta-wuppertal.de
SUMMARY:Initiativenspeeddating
DESCRIPTION:Hochschulgruppen stellen sich vor – Initiativenspeedating mit „Messeständen“ und Kuchen auf der AStA-Ebene
URL:https://www.asta-wuppertal.de/veranstaltungen/initiativenspeeddating/
LOCATION:AStA-Ebene (ME.04)\, Max-Horkheimer-Str. 15\, Wuppertal\, 42119
END:VEVENT
BEGIN:VEVENT
DTSTART;TZID=Europe/Berlin:20231011T160000
DTEND;TZID=Europe/Berlin:20231011T160000
DTSTAMP:20260422T003914
CREATED:20231008T132433Z
LAST-MODIFIED:20231008T132433Z
UID:4243-1697040000-1697040000@www.asta-wuppertal.de
SUMMARY:19. ordentliches AStA-Plenum
DESCRIPTION:Das 19. ordentliche AStA-Plenum der Amtszeit 2023/24 wird am 11.10.2023 um 16 Uhr auf der AStA-Ebene (ME.04) im Großraumbüro stattfinden. \nFolgende Tagesordnung würden wir vorschlagen:\nTOP1 Begrüßung und Regularien\nTOP2 Anträge\nTOP3 Berichte und Projekte\nTOP4 Termine und Sonstiges \nBitte schickt eure Anträge bis Mittwoch 14 Uhr an vorsitz[at]asta.uni-wuppertal.de.
URL:https://www.asta-wuppertal.de/veranstaltungen/19-ordentliches-asta-plenum-2/
LOCATION:AStA-Ebene (ME.04)\, Max-Horkheimer-Str. 15\, Wuppertal\, 42119
END:VEVENT
BEGIN:VEVENT
DTSTART;TZID=Europe/Berlin:20231017T180000
DTEND;TZID=Europe/Berlin:20231017T193000
DTSTAMP:20260422T003914
CREATED:20230911T125522Z
LAST-MODIFIED:20231011T144919Z
UID:4167-1697565600-1697571000@www.asta-wuppertal.de
SUMMARY:Klimaleugnung und Weltuntergangsstimmung adé: Warum die Bewältigung der Klimakrise (immer) im Kopf beginnt! (Auftakt Ringvorlesung)
DESCRIPTION:Wie jedes Semester haben wir gemeinsam mit den Students for Future\, dem Wuppertal Institut und dem transzent (Zentrum für Transformationsforschung und Nachhaltigkeit) die Ringvorlesung „Klimakrise & Nachhaltigkeit“ für euch organisiert. Die Auftaktsveranstaltung wird mit Maren Urner als Referentin stattfinden. \nWeitere Infos findet ihr hier.
URL:https://www.asta-wuppertal.de/veranstaltungen/klimaleugnung-und-weltuntergangsstimmung-ade-warum-die-bewaeltigung-der-klimakrise-immer-im-kopf-beginnt-auftakt-ringvorlesung/
LOCATION:CityKirche\, Kirchplatz 2\, Wuppertal\, 42103\, Deutschland
END:VEVENT
BEGIN:VEVENT
DTSTART;TZID=Europe/Berlin:20231019T200000
DTEND;TZID=Europe/Berlin:20231020T020000
DTSTAMP:20260422T003914
CREATED:20230911T132458Z
LAST-MODIFIED:20231011T144646Z
UID:4178-1697745600-1697767200@www.asta-wuppertal.de
SUMMARY:Bier & Spiele
DESCRIPTION:
URL:https://www.asta-wuppertal.de/veranstaltungen/bier-spiele/
LOCATION:AStA-Ebene (ME.04)\, Max-Horkheimer-Str. 15\, Wuppertal\, 42119
END:VEVENT
BEGIN:VEVENT
DTSTART;TZID=Europe/Berlin:20231020T120000
DTEND;TZID=Europe/Berlin:20231020T170000
DTSTAMP:20260422T003914
CREATED:20231011T151218Z
LAST-MODIFIED:20231011T151218Z
UID:4268-1697803200-1697821200@www.asta-wuppertal.de
SUMMARY:Vollversammlung des autonomen Queer*Referats
DESCRIPTION:
URL:https://www.asta-wuppertal.de/veranstaltungen/vollversammlung-des-autonomen-queerreferats/
LOCATION:AStA-Ebene (ME.04)\, Max-Horkheimer-Str. 15\, Wuppertal\, 42119
END:VEVENT
BEGIN:VEVENT
DTSTART;TZID=Europe/Berlin:20231024T180000
DTEND;TZID=Europe/Berlin:20231024T193000
DTSTAMP:20260422T003914
CREATED:20230926T143920Z
LAST-MODIFIED:20231011T145225Z
UID:4228-1698170400-1698175800@www.asta-wuppertal.de
SUMMARY:Klimakrise\, globale Ungleichheit & Migration: Wie schaffen wir soziale Gerechtigkeit? (Ringvorlesung)
DESCRIPTION:Wie jedes Semester haben wir gemeinsam mit den Students for Future\, dem Wuppertal Institut und dem transzent (Zentrum für Transformationsforschung und Nachhaltigkeit) die Ringvorlesung „Klimakrise & Nachhaltigkeit“ für euch organisiert. Diesen Termin gestalten Elisabeth Badenhoop und Katharina Gröne für euch. Weitere Infos findet ihr hier.
URL:https://www.asta-wuppertal.de/veranstaltungen/klimakrise-globale-ungleichheit-migration-wie-schaffen-wir-soziale-gerechtigkeit-ringvorlesung/
LOCATION:AStA-Ebene (ME.04)\, Max-Horkheimer-Str. 15\, Wuppertal\, 42119
END:VEVENT
BEGIN:VEVENT
DTSTART;TZID=Europe/Berlin:20231025T140000
DTEND;TZID=Europe/Berlin:20231025T160000
DTSTAMP:20260422T003914
CREATED:20231022T123841Z
LAST-MODIFIED:20231022T123841Z
UID:4283-1698242400-1698249600@www.asta-wuppertal.de
SUMMARY:20. ordentliches AStA-Plenum
DESCRIPTION:Hiermit laden wir euch zum 20. ordentlichen AStA-Plenum am 25.10.2023 um 14 Uhr ein. Achtung: wir treffen uns im Wintersemester 2023/24 zu einer anderen Uhrzeit als im letzten Semester! Das Plenum findet im Großraumbüro auf der AStA-Ebene (ME04) statt.\nWir schlagen folgende Tagesordnung vor:\nTOP1 Begrüßung und Regularien\nTOP2 Anträge\nTOP3 Reflektion Semesterstart (Ersti-Woche\, Bier und Spiele\, Awarenesskonzept)\nTOP4 Berichte und Projekte\nTOP5 Termine und Sonstiges
URL:https://www.asta-wuppertal.de/veranstaltungen/20-ordentliches-asta-plenum-3/
LOCATION:AStA-Ebene (ME.04)\, Max-Horkheimer-Str. 15\, Wuppertal\, 42119
END:VEVENT
BEGIN:VEVENT
DTSTART;TZID=Europe/Berlin:20231026T190000
DTEND;TZID=Europe/Berlin:20231027T000000
DTSTAMP:20260422T003914
CREATED:20230911T131448Z
LAST-MODIFIED:20230911T131838Z
UID:4180-1698346800-1698364800@www.asta-wuppertal.de
SUMMARY:Pubquiz
DESCRIPTION:Einlass ab 19 Uhr\, Beginn gegen 20 Uhr
URL:https://www.asta-wuppertal.de/veranstaltungen/pubquiz/
LOCATION:AStA-Ebene (ME.04)\, Max-Horkheimer-Str. 15\, Wuppertal\, 42119
END:VEVENT
END:VCALENDAR