BEGIN:VCALENDAR
VERSION:2.0
PRODID:-//AStA - ECPv6.15.20//NONSGML v1.0//EN
CALSCALE:GREGORIAN
METHOD:PUBLISH
X-ORIGINAL-URL:https://www.asta-wuppertal.de
X-WR-CALDESC:Veranstaltungen für AStA
REFRESH-INTERVAL;VALUE=DURATION:PT1H
X-Robots-Tag:noindex
X-PUBLISHED-TTL:PT1H
BEGIN:VTIMEZONE
TZID:Europe/Berlin
BEGIN:DAYLIGHT
TZOFFSETFROM:+0100
TZOFFSETTO:+0200
TZNAME:CEST
DTSTART:20220327T010000
END:DAYLIGHT
BEGIN:STANDARD
TZOFFSETFROM:+0200
TZOFFSETTO:+0100
TZNAME:CET
DTSTART:20221030T010000
END:STANDARD
BEGIN:DAYLIGHT
TZOFFSETFROM:+0100
TZOFFSETTO:+0200
TZNAME:CEST
DTSTART:20230326T010000
END:DAYLIGHT
BEGIN:STANDARD
TZOFFSETFROM:+0200
TZOFFSETTO:+0100
TZNAME:CET
DTSTART:20231029T010000
END:STANDARD
BEGIN:DAYLIGHT
TZOFFSETFROM:+0100
TZOFFSETTO:+0200
TZNAME:CEST
DTSTART:20240331T010000
END:DAYLIGHT
BEGIN:STANDARD
TZOFFSETFROM:+0200
TZOFFSETTO:+0100
TZNAME:CET
DTSTART:20241027T010000
END:STANDARD
END:VTIMEZONE
BEGIN:VEVENT
DTSTART;TZID=Europe/Berlin:20230809T160000
DTEND;TZID=Europe/Berlin:20230809T180000
DTSTAMP:20260421T214050
CREATED:20230727T000945Z
LAST-MODIFIED:20230727T000945Z
UID:4148-1691596800-1691604000@www.asta-wuppertal.de
SUMMARY:14. ordentliches AStA-Plenum
DESCRIPTION:Ihr seid herzlich zum 14. ordentlichen AStA-Plenum der Amtszeit 2023/24 eingeladen. Wir treffen uns am 09.08.2023 um 16 Uhr auf der AStA-Ebene (ME.04) im Großraumbüro. \nFolgende Tagesordnung würden wir vorschlagen:\nTOP1 Begrüßung und Regularien\nTOP2 Anträge\nTOP3 Berichte und Projekte\nTOP4 Termine und Sonstiges \nBitte schickt eure Anträge bis Mittwoch 14 Uhr an vorsitz[at]asta.uni-wuppertal.de.
URL:https://www.asta-wuppertal.de/veranstaltungen/14-ordentliches-asta-plenum-2/
LOCATION:AStA-Ebene (ME.04)\, Max-Horkheimer-Str. 15\, Wuppertal\, 42119
END:VEVENT
BEGIN:VEVENT
DTSTART;TZID=Europe/Berlin:20230823T160000
DTEND;TZID=Europe/Berlin:20230823T180000
DTSTAMP:20260421T214050
CREATED:20230820T162111Z
LAST-MODIFIED:20230820T162111Z
UID:4155-1692806400-1692813600@www.asta-wuppertal.de
SUMMARY:15. ordentliches AStA-Plenum
DESCRIPTION:Ihr seid herzlich zum 15. ordentlichen AStA-Plenum der Amtszeit 2023/24 eingeladen. Wir treffen uns am 23.08.2023 um 16 Uhr auf der AStA-Ebene (ME.04) im Großraumbüro. \nProf. Buch\, die Prorektorin für Studium und Lehre wird beim Plenum anwesend sein um das Leitbild Lehre vorzustellen und unseren Input dazu zu sammeln. \n  \nFolgende Tagesordnung würden wir vorschlagen: \nTOP1 Begrüßung und Regularien \nTOP2 Leitbild Lehre \nTOP3 Anträge \nTOP4 Berichte und Projekte \nTOP5 Termine und Sonstiges \n  \nBitte schickt eure Anträge bis Mittwoch 14 Uhr an vorsitz[at]asta.uni-wuppertal.de.
URL:https://www.asta-wuppertal.de/veranstaltungen/15-ordentliches-asta-plenum-2/
LOCATION:AStA-Ebene (ME.04)\, Max-Horkheimer-Str. 15\, Wuppertal\, 42119
END:VEVENT
BEGIN:VEVENT
DTSTART;TZID=Europe/Berlin:20230825T100000
DTEND;TZID=Europe/Berlin:20230825T113000
DTSTAMP:20260421T214050
CREATED:20230821T133248Z
LAST-MODIFIED:20230821T133248Z
UID:4157-1692957600-1692963000@www.asta-wuppertal.de
SUMMARY:2. ordentliche Sitzung des Haushaltsausschusses
DESCRIPTION:Hiermit lade ich Euch zur 2. ordentlichen Sitzung des Haushaltsausschusses ein. Die Sitzung findet am Freitag\, den 25.08.2023 um 10 Uhr im Vorsitzbüro (ME04.20) auf der AStA-Ebene statt. \nIch schlage die folgende Tagesordnung vor: \nTOP1  Begrüßung und Regularia\nTOP2  Haushaltsnachträge\nTOP3  Haushalt 2023/24\nTOP4  Termine und Sonstiges
URL:https://www.asta-wuppertal.de/veranstaltungen/2-ordentliche-sitzung-des-haushaltsausschusses/
LOCATION:AStA-Ebene (ME.04)\, Max-Horkheimer-Str. 15\, Wuppertal\, 42119
END:VEVENT
END:VCALENDAR