BEGIN:VCALENDAR
VERSION:2.0
PRODID:-//AStA - ECPv6.15.20//NONSGML v1.0//EN
CALSCALE:GREGORIAN
METHOD:PUBLISH
X-WR-CALNAME:AStA
X-ORIGINAL-URL:https://www.asta-wuppertal.de
X-WR-CALDESC:Veranstaltungen für AStA
REFRESH-INTERVAL;VALUE=DURATION:PT1H
X-Robots-Tag:noindex
X-PUBLISHED-TTL:PT1H
BEGIN:VTIMEZONE
TZID:Europe/Berlin
BEGIN:DAYLIGHT
TZOFFSETFROM:+0100
TZOFFSETTO:+0200
TZNAME:CEST
DTSTART:20220327T010000
END:DAYLIGHT
BEGIN:STANDARD
TZOFFSETFROM:+0200
TZOFFSETTO:+0100
TZNAME:CET
DTSTART:20221030T010000
END:STANDARD
BEGIN:DAYLIGHT
TZOFFSETFROM:+0100
TZOFFSETTO:+0200
TZNAME:CEST
DTSTART:20230326T010000
END:DAYLIGHT
BEGIN:STANDARD
TZOFFSETFROM:+0200
TZOFFSETTO:+0100
TZNAME:CET
DTSTART:20231029T010000
END:STANDARD
BEGIN:DAYLIGHT
TZOFFSETFROM:+0100
TZOFFSETTO:+0200
TZNAME:CEST
DTSTART:20240331T010000
END:DAYLIGHT
BEGIN:STANDARD
TZOFFSETFROM:+0200
TZOFFSETTO:+0100
TZNAME:CET
DTSTART:20241027T010000
END:STANDARD
END:VTIMEZONE
BEGIN:VEVENT
DTSTART;TZID=Europe/Berlin:20230607T160000
DTEND;TZID=Europe/Berlin:20230607T180000
DTSTAMP:20260421T200528
CREATED:20230604T151802Z
LAST-MODIFIED:20230604T151802Z
UID:4094-1686153600-1686160800@www.asta-wuppertal.de
SUMMARY:8. ordentliches AStA-Plenum
DESCRIPTION:Das 8. ordentliche AStA-Plenum findet am 07.06.2023 um 16 Uhr im Großraumbüro auf der AStA-Ebene (ME.04) statt.\nWir schlagen folgende Tagesordnung vor: \nTOP 1 Begrüßung und Regularien\nTOP 2 Anträge\nTOP 3 Berichte und Projekte\nTOP 4 Termine und Sonstiges \nBitte benutzt für Anträge ans AStA-Plenum das Antragsformular (https://www.asta-wuppertal.de/wp-content/uploads/2022/06/AStA-Antragsformular.pdf) und lasst sie uns nach Möglichkeit bis zum 07.06. um 14 Uhr per Mail (vorsitz@asta.uni-wuppertal.de) zukommen.
URL:https://www.asta-wuppertal.de/veranstaltungen/8-ordentliches-asta-plenum-2/
LOCATION:AStA-Ebene (ME.04)\, Max-Horkheimer-Str. 15\, Wuppertal\, 42119
END:VEVENT
BEGIN:VEVENT
DTSTART;TZID=Europe/Berlin:20230614T160000
DTEND;TZID=Europe/Berlin:20230614T180000
DTSTAMP:20260421T200528
CREATED:20230609T165326Z
LAST-MODIFIED:20230609T165326Z
UID:4097-1686758400-1686765600@www.asta-wuppertal.de
SUMMARY:9. ordentliches AStA-Plenum
DESCRIPTION:Hallo liebe Leute\, \nihr seid herzlich eingeladen zum 9. ordentlichen AStA-Plenum am 14.06.2023\, es findet um 16 Uhr im Großraumbüro auf der AStA-Ebene (ME.04) statt.\nWir schlagen folgende Tagesordnung vor: \nTOP 1 Begrüßung und Regularien\nTOP 2 Anträge\nTOP 3 Konsequenzen bei unzureichender Erfüllung der Aufgaben\nTOP 4 Berichte und Projekte\nTOP 5 Termine und Sonstiges \nBitte benutzt für Anträge ans AStA-Plenum das Antragsformular (https://www.asta-wuppertal.de/wp-content/uploads/2022/06/AStA-Antragsformular.pdf) und lasst sie uns nach Möglichkeit bis zum 14.06. um 14 Uhr per Mail (vorsitz@asta.uni-wuppertal.de) zukommen.
URL:https://www.asta-wuppertal.de/veranstaltungen/9-ordentliches-asta-plenum-2/
LOCATION:AStA-Ebene (ME.04)\, Max-Horkheimer-Str. 15\, Wuppertal\, 42119
END:VEVENT
BEGIN:VEVENT
DTSTART;TZID=Europe/Berlin:20230621T160000
DTEND;TZID=Europe/Berlin:20230621T180000
DTSTAMP:20260421T200528
CREATED:20230618T121353Z
LAST-MODIFIED:20230618T121404Z
UID:4108-1687363200-1687370400@www.asta-wuppertal.de
SUMMARY:9. ordentliches AStA-Plenum
DESCRIPTION:Wir laden euch herzlich zum nächsten AStA-Plenum am 21.06.2023 um 16 Uhr im Großraumbüro auf der AStA-Ebene (ME04) ein.\nWir schlagen folgende Tagesordnung vor:\nTOP1 Begrüßung und Regularien\nTOP2 Anträge\nTOP3 Nachbesprechung Campus Sommerfest\nTOP4 Berichte und Projekte\nTOP5 Termine und Sonstiges \nBitte benutzt das Antragsformular (https://www.asta-wuppertal.de/wp-content/uploads/2022/06/AStA-Antragsformular.pdf) und reicht eure Anträge bis Mittwoch\, 14 Uhr ein.
URL:https://www.asta-wuppertal.de/veranstaltungen/9-ordentliches-asta-plenum-3/
LOCATION:AStA-Ebene (ME.04)\, Max-Horkheimer-Str. 15\, Wuppertal\, 42119
END:VEVENT
BEGIN:VEVENT
DTSTART;TZID=Europe/Berlin:20230628T160000
DTEND;TZID=Europe/Berlin:20230628T180000
DTSTAMP:20260421T200528
CREATED:20230625T101359Z
LAST-MODIFIED:20230625T101417Z
UID:4121-1687968000-1687975200@www.asta-wuppertal.de
SUMMARY:11. ordentliches AStA-Plenum
DESCRIPTION:Wir treffen uns am 28.06.2023 um 16 Uhr auf der AStA-Ebene (ME04) im Großraumbüro.\nBitte beachtet\, dass wir in der folgenden Woche kein AStA-Plenum machen\, stellt wichtige Anträge also bitte rechtzeitig.\nFolgende Tagesordnung würden wir vorschlagen:\nTOP1 Begrüßung und Regularien\nTOP2 Anträge\nTOP3 Berichte und Projekte\nTOP4 Termine und Sonstiges \nBitte schickt eure Anträge bis Mittwoch 14 Uhr an vorsitz@ asta.uni-wuppertal.de.
URL:https://www.asta-wuppertal.de/veranstaltungen/11-ordentliches-asta-plenum/
LOCATION:AStA-Ebene (ME.04)\, Max-Horkheimer-Str. 15\, Wuppertal\, 42119
END:VEVENT
BEGIN:VEVENT
DTSTART;TZID=Europe/Berlin:20230629T120000
DTEND;TZID=Europe/Berlin:20230629T130000
DTSTAMP:20260421T200528
CREATED:20230628T114554Z
LAST-MODIFIED:20230628T114554Z
UID:4124-1688040000-1688043600@www.asta-wuppertal.de
SUMMARY:3. außerordentliche Sitzung des Haushaltsausschusses
DESCRIPTION:Hiermit laden wir zur 3. außerordentlichen Sitzung des Haushaltsausschusses ein. Die Sitzung findet am Donnerstag\, den 29.06.2023 um 12 Uhr über Zoom statt. Die entsprechenden Einwahldaten findet ihr hier: \nJoin Zoom Meeting\nhttps://uni-wuppertal.zoom.us/j/5149819335?pwd=Q3hFTEhZM3pOWGVETzdIL0lOU05kQT09\nMeeting ID: 514 981 9335\nPasscode: HHA22023 \nEs wäre es cool\, wenn jemand sich bereit erklären könnte\, das Protokoll für die Sitzung zu übernehmen.\nFalls ihr nicht an der Sitzung teilnehmen könnt\, sagt mir bitte Bescheid. \nIch schlage die folgende Tagesordnung vor:\nTOP1  Begrüßung und Regularia\nTOP2  Haushalt und Anträge\nTOP3  Termine und Sonstiges
URL:https://www.asta-wuppertal.de/veranstaltungen/3-ausserordentliche-sitzung-des-haushaltsausschusses/
LOCATION:Zoom
END:VEVENT
END:VCALENDAR