BEGIN:VCALENDAR
VERSION:2.0
PRODID:-//AStA - ECPv6.15.20//NONSGML v1.0//EN
CALSCALE:GREGORIAN
METHOD:PUBLISH
X-ORIGINAL-URL:https://www.asta-wuppertal.de
X-WR-CALDESC:Veranstaltungen für AStA
REFRESH-INTERVAL;VALUE=DURATION:PT1H
X-Robots-Tag:noindex
X-PUBLISHED-TTL:PT1H
BEGIN:VTIMEZONE
TZID:Europe/Berlin
BEGIN:DAYLIGHT
TZOFFSETFROM:+0100
TZOFFSETTO:+0200
TZNAME:CEST
DTSTART:20220327T010000
END:DAYLIGHT
BEGIN:STANDARD
TZOFFSETFROM:+0200
TZOFFSETTO:+0100
TZNAME:CET
DTSTART:20221030T010000
END:STANDARD
BEGIN:DAYLIGHT
TZOFFSETFROM:+0100
TZOFFSETTO:+0200
TZNAME:CEST
DTSTART:20230326T010000
END:DAYLIGHT
BEGIN:STANDARD
TZOFFSETFROM:+0200
TZOFFSETTO:+0100
TZNAME:CET
DTSTART:20231029T010000
END:STANDARD
BEGIN:DAYLIGHT
TZOFFSETFROM:+0100
TZOFFSETTO:+0200
TZNAME:CEST
DTSTART:20240331T010000
END:DAYLIGHT
BEGIN:STANDARD
TZOFFSETFROM:+0200
TZOFFSETTO:+0100
TZNAME:CET
DTSTART:20241027T010000
END:STANDARD
END:VTIMEZONE
BEGIN:VEVENT
DTSTART;TZID=Europe/Berlin:20230201T160000
DTEND;TZID=Europe/Berlin:20230201T170000
DTSTAMP:20260421T114841
CREATED:20230129T131345Z
LAST-MODIFIED:20230129T131345Z
UID:3960-1675267200-1675270800@www.asta-wuppertal.de
SUMMARY:30. ordentliches AStA-Plenum
DESCRIPTION:Wir treffen uns am 01.02.23 um 16 Uhr online auf zoom\, die Einwahldaten findet ihr unten.\nWeil zur gleichen Zeit Stupa-Wahl ist und wahrscheinlich viele von uns an der Uni sind\, könnt ihr vom Großraumbüro (ME04) aus an der Sitzung teilnehmen. \nWir schlagen folgende Tagesordnung vor:\nTOP1: Begrüßung und Regularien\nTOP2: Anträge\nTOP3: Berichte und Projekte\nTOP4: Termine und Sonstiges \nBitte lasst uns im Vorfeld der Sitzung eure Anträge per Mail (vorsitz@asta.uni-wuppertal.de) zukommen\, das Antragsformular findet ihr hier: https://www.asta-wuppertal.de/wp-content/uploads/2022/06/AStA-Antragsformular.pdf \nZoom-Einwahldaten:\nhttps://uni-wuppertal.zoom.us/j/99455008447?pwd=R0lzbFZuR2s3czlhNGYycXYyb1p3QT09\nMeeting ID: 994 5500 8447\nPasscode: ptXpcCN4
URL:https://www.asta-wuppertal.de/veranstaltungen/30-ordentliches-asta-plenum/
LOCATION:Zoom
END:VEVENT
BEGIN:VEVENT
DTSTART;TZID=Europe/Berlin:20230208T160000
DTEND;TZID=Europe/Berlin:20230208T170000
DTSTAMP:20260421T114841
CREATED:20230205T135214Z
LAST-MODIFIED:20230205T135214Z
UID:3963-1675872000-1675875600@www.asta-wuppertal.de
SUMMARY:31. ordentliches AStA-Plenum
DESCRIPTION:Wir treffen uns am 08.02.23 um 16 Uhr online auf zoom\, die Einwahldaten findet ihr unten. \nWir schlagen folgende Tagesordnung vor:\nTOP1: Begrüßung und Regularien\nTOP2: Anträge\nTOP3: Berichte und Projekte\nTOP4: Termine und Sonstiges \nBitte lasst uns im Vorfeld der Sitzung eure Anträge per Mail (vorsitz@asta.uni-wuppertal.de) zukommen\, das Antragsformular findet ihr hier: https://www.asta-wuppertal.de/wp-content/uploads/2022/06/AStA-Antragsformular.pdf \nLiebe Grüße und bis bald! \nZoom-Einwahldaten:\nhttps://uni-wuppertal.zoom.us/j/99455008447?pwd=R0lzbFZuR2s3czlhNGYycXYyb1p3QT09\nMeeting ID: 994 5500 8447\nPasscode: ptXpcCN4
URL:https://www.asta-wuppertal.de/veranstaltungen/31-ordentliches-asta-plenum/
LOCATION:Zoom
END:VEVENT
BEGIN:VEVENT
DTSTART;TZID=Europe/Berlin:20230222T160000
DTEND;TZID=Europe/Berlin:20230222T170000
DTSTAMP:20260421T114841
CREATED:20230219T130919Z
LAST-MODIFIED:20230219T130919Z
UID:3972-1677081600-1677085200@www.asta-wuppertal.de
SUMMARY:32. ordentliches AStA-Plenum
DESCRIPTION:Am 22.2.23 treffen wir uns um 16 Uhr im Großraumbüro auf der AStA-Ebene (ME04) fürs 32. ordentliche AStA-Plenum. \nWir schlagen folgende Tagesordnung vor: \nTOP1: Begrüßung und Regularien \nTOP2: Anträge \nTOP3: Berichte und Projekte \nTOP4: Sonstiges und Termine
URL:https://www.asta-wuppertal.de/veranstaltungen/32-ordentliches-asta-plenum-2/
LOCATION:AStA-Ebene (ME.04)\, Max-Horkheimer-Str. 15\, Wuppertal\, 42119
END:VEVENT
END:VCALENDAR