BEGIN:VCALENDAR
VERSION:2.0
PRODID:-//AStA - ECPv6.15.20//NONSGML v1.0//EN
CALSCALE:GREGORIAN
METHOD:PUBLISH
X-WR-CALNAME:AStA
X-ORIGINAL-URL:https://www.asta-wuppertal.de
X-WR-CALDESC:Veranstaltungen für AStA
REFRESH-INTERVAL;VALUE=DURATION:PT1H
X-Robots-Tag:noindex
X-PUBLISHED-TTL:PT1H
BEGIN:VTIMEZONE
TZID:UTC
BEGIN:STANDARD
TZOFFSETFROM:+0000
TZOFFSETTO:+0000
TZNAME:UTC
DTSTART:20210101T000000
END:STANDARD
END:VTIMEZONE
BEGIN:VTIMEZONE
TZID:Europe/Berlin
BEGIN:DAYLIGHT
TZOFFSETFROM:+0100
TZOFFSETTO:+0200
TZNAME:CEST
DTSTART:20210328T010000
END:DAYLIGHT
BEGIN:STANDARD
TZOFFSETFROM:+0200
TZOFFSETTO:+0100
TZNAME:CET
DTSTART:20211031T010000
END:STANDARD
BEGIN:DAYLIGHT
TZOFFSETFROM:+0100
TZOFFSETTO:+0200
TZNAME:CEST
DTSTART:20220327T010000
END:DAYLIGHT
BEGIN:STANDARD
TZOFFSETFROM:+0200
TZOFFSETTO:+0100
TZNAME:CET
DTSTART:20221030T010000
END:STANDARD
BEGIN:DAYLIGHT
TZOFFSETFROM:+0100
TZOFFSETTO:+0200
TZNAME:CEST
DTSTART:20230326T010000
END:DAYLIGHT
BEGIN:STANDARD
TZOFFSETFROM:+0200
TZOFFSETTO:+0100
TZNAME:CET
DTSTART:20231029T010000
END:STANDARD
END:VTIMEZONE
BEGIN:VEVENT
DTSTART;TZID=UTC:20221207T160000
DTEND;TZID=UTC:20221207T180000
DTSTAMP:20260421T130122
CREATED:20221204T122952Z
LAST-MODIFIED:20221204T123042Z
UID:3929-1670428800-1670436000@www.asta-wuppertal.de
SUMMARY:24. ordentliches AStA-Plenum
DESCRIPTION:Ihr seid herzlich eingeladen zum 24. ordentlichen AStA-Plenum der Amtszeit 2022/23. Wir treffen uns am 7.12. um 16 Uhr außerplanmäßig in Präsenz im Großraumbüro auf der AStA-Ebene (ME04)\, weil im Anschluss dort auch die Stupasitzung stattfindet. \nWir schlagen folgende Tagesordnung vor: \nTOP 1: Begrüßung und Regularien \nTOP 2: Anträge \nTOP 3: Berichte und Projekte \nTOP 4: Termine und Sonstiges
URL:https://www.asta-wuppertal.de/veranstaltungen/24-ordentliches-asta-plenum/
LOCATION:AStA-Ebene (ME.04)\, Max-Horkheimer-Str. 15\, Wuppertal\, 42119
END:VEVENT
BEGIN:VEVENT
DTSTART;TZID=UTC:20221214T160000
DTEND;TZID=UTC:20221214T180000
DTSTAMP:20260421T130122
CREATED:20221211T134737Z
LAST-MODIFIED:20221211T134737Z
UID:3938-1671033600-1671040800@www.asta-wuppertal.de
SUMMARY:25. ordentliches AStA-Plenum
DESCRIPTION:Wir treffen uns am 14.12.22 um 16 Uhr online auf zoom\, die Einwahldaten findet ihr unten. \nWir schlagen folgende Tagesordnung vor: \nTOP1: Begrüßung und Regularien \nTOP2: Anträge \nTOP3: Berichte und Projekte \nTOP4: Termine und Sonstiges \n  \nBitte lasst uns im Vorfeld der Sitzung eure Anträge per Mail (vorsitz@asta.uni-wuppertal.de) zukommen\, das Antragsformular findet ihr hier: https://www.asta-wuppertal.de/wp-content/uploads/2022/06/AStA-Antragsformular.pdf \n  \nZoom-Einwahldaten: \nhttps://uni-wuppertal.zoom.us/j/99455008447?pwd=R0lzbFZuR2s3czlhNGYycXYyb1p3QT09 \nMeeting ID: 994 5500 8447 \nPasscode: ptXpcCN4
URL:https://www.asta-wuppertal.de/veranstaltungen/25-ordentliches-asta-plenum/
LOCATION:Zoom
END:VEVENT
BEGIN:VEVENT
DTSTART;TZID=Europe/Berlin:20221221T160000
DTEND;TZID=Europe/Berlin:20221221T180000
DTSTAMP:20260421T130122
CREATED:20221218T143105Z
LAST-MODIFIED:20221218T143105Z
UID:3942-1671638400-1671645600@www.asta-wuppertal.de
SUMMARY:26. ordentliches AStA-Plenum
DESCRIPTION:Wir treffen uns am 21.12.22 um 16:00 Uhr für ein letztes Plenum im Jahr 2022 in Präsenz im Großraumbüro auf der AStA-Ebene. Für den 28.12.22 und den 04.01.22 ist kein Plenum angesetzt. \nWir schlagen folgende Tagesordnung vor:\nTOP1: Begrüßung und Regularien\nTOP2: Anträge\nTOP3: Berichte und Projekte\nTOP4: Termine und Sonstiges \nBitte lasst uns im Vorfeld der Sitzung eure Anträge per Mail (vorsitz@asta.uni-wuppertal.de) zukommen\, das Antragsformular findet ihr hier: https://www.asta-wuppertal.de/wp-content/uploads/2022/06/AStA-Antragsformular.pdf
URL:https://www.asta-wuppertal.de/veranstaltungen/26-ordentliches-asta-plenum/
LOCATION:AStA-Ebene (ME.04)\, Max-Horkheimer-Str. 15\, Wuppertal\, 42119
END:VEVENT
END:VCALENDAR