BEGIN:VCALENDAR
VERSION:2.0
PRODID:-//AStA - ECPv6.15.20//NONSGML v1.0//EN
CALSCALE:GREGORIAN
METHOD:PUBLISH
X-WR-CALNAME:AStA
X-ORIGINAL-URL:https://www.asta-wuppertal.de
X-WR-CALDESC:Veranstaltungen für AStA
REFRESH-INTERVAL;VALUE=DURATION:PT1H
X-Robots-Tag:noindex
X-PUBLISHED-TTL:PT1H
BEGIN:VTIMEZONE
TZID:UTC
BEGIN:STANDARD
TZOFFSETFROM:+0000
TZOFFSETTO:+0000
TZNAME:UTC
DTSTART:20210101T000000
END:STANDARD
END:VTIMEZONE
BEGIN:VEVENT
DTSTART;TZID=UTC:20221012T160000
DTEND;TZID=UTC:20221012T180000
DTSTAMP:20260421T155145
CREATED:20221009T121127Z
LAST-MODIFIED:20221009T121127Z
UID:3892-1665590400-1665597600@www.asta-wuppertal.de
SUMMARY:18. ordentliches AStA-Plenum
DESCRIPTION:Am 12.10.22 um 16 Uhr treffen wir uns zum 18. ordentlichen AStA-Plenum der Amtszeit 2022/23 in Präsenz im Großraumbüro auf der AStA-Ebene ME04. Ihr seid herzlich eingeladen. \nWir schlagen folgende Tagesordnung vor:\nTOP1: Begrüßung und Regularien\nTOP2: Anträge\nTOP3: Berichte und Projekte\nTOP4: Sonstiges und Termine \nBitte schickt eure Anträge und Änderungswünsche an die Tagesordnung vor der Sitzung an den Vorsitz (vorsitz@asta.uni-wuppertal.de). Das digitale Antragsformular findet ihr hier: https://www.asta-wuppertal.de/wp-content/uploads/2022/06/AStA-Antragsformular.pdf
URL:https://www.asta-wuppertal.de/veranstaltungen/18-ordentliches-asta-plenum/
LOCATION:AStA-Ebene (ME.04)\, Max-Horkheimer-Str. 15\, Wuppertal\, 42119
END:VEVENT
BEGIN:VEVENT
DTSTART;TZID=UTC:20221019T160000
DTEND;TZID=UTC:20221019T180000
DTSTAMP:20260421T155145
CREATED:20221016T131928Z
LAST-MODIFIED:20221016T131928Z
UID:3903-1666195200-1666202400@www.asta-wuppertal.de
SUMMARY:19. ordentliches AStA-Plenum
DESCRIPTION:Wir treffen uns am 19.10.22 um 16 Uhr online auf zoom\, die Einwahldaten findet ihr unten.\nWir schlagen folgende Tagesordnung vor:\nTOP1: Begrüßung und Regularien\nTOP2: Anträge\nTOP3: Berichte und Projekte\nTOP4: Auswertung O-Woche\nTOP5: Termine und Sonstiges \nBitte lasst uns im Vorfeld der Sitzung eure Anträge per Mail (vorsitz@asta.uni-wuppertal.de) zukommen\, das Antragsformular findet ihr hier: https://www.asta-wuppertal.de/wp-content/uploads/2022/06/AStA-Antragsformular.pdf
URL:https://www.asta-wuppertal.de/veranstaltungen/19-ordentliches-asta-plenum/
LOCATION:Zoom
END:VEVENT
BEGIN:VEVENT
DTSTART;TZID=UTC:20221026T160000
DTEND;TZID=UTC:20221026T180000
DTSTAMP:20260421T155145
CREATED:20221023T125407Z
LAST-MODIFIED:20221023T125407Z
UID:3905-1666800000-1666807200@www.asta-wuppertal.de
SUMMARY:20. ordentliches AStA-Plenum
DESCRIPTION:Ihr seid herzlich zum 20. ordentlichen AStA-Plenum der Amtszeit 2022/23 eingeladen. Wir treffen uns am 26.10. um 16 Uhr im Großraumbüro auf der AStA-Ebene (ME04).\nWir schlagen folgende Tagesordnung vor:\nTOP1: Begrüßung und Regularien\nTOP2: Anträge\nTOP3: Berichte und Projekte\nTP4: Termine und Sonstiges \nBitte lasst uns eure Wünsche für die Tagesordnung und eure Anträge vor der Sitzung per Mail (vorsitz@asta.uni-wuppertal.de) zukommen. Das Antragsformular findet ihr hier: https://www.asta-wuppertal.de/wp-content/uploads/2022/06/AStA-Antragsformular.pdf
URL:https://www.asta-wuppertal.de/veranstaltungen/20-ordentliches-asta-plenum/
LOCATION:AStA-Ebene (ME.04)\, Max-Horkheimer-Str. 15\, Wuppertal\, 42119
END:VEVENT
END:VCALENDAR