BEGIN:VCALENDAR
VERSION:2.0
PRODID:-//AStA - ECPv6.15.20//NONSGML v1.0//EN
CALSCALE:GREGORIAN
METHOD:PUBLISH
X-WR-CALNAME:AStA
X-ORIGINAL-URL:https://www.asta-wuppertal.de
X-WR-CALDESC:Veranstaltungen für AStA
REFRESH-INTERVAL;VALUE=DURATION:PT1H
X-Robots-Tag:noindex
X-PUBLISHED-TTL:PT1H
BEGIN:VTIMEZONE
TZID:Europe/Berlin
BEGIN:DAYLIGHT
TZOFFSETFROM:+0100
TZOFFSETTO:+0200
TZNAME:CEST
DTSTART:20210328T010000
END:DAYLIGHT
BEGIN:STANDARD
TZOFFSETFROM:+0200
TZOFFSETTO:+0100
TZNAME:CET
DTSTART:20211031T010000
END:STANDARD
BEGIN:DAYLIGHT
TZOFFSETFROM:+0100
TZOFFSETTO:+0200
TZNAME:CEST
DTSTART:20220327T010000
END:DAYLIGHT
BEGIN:STANDARD
TZOFFSETFROM:+0200
TZOFFSETTO:+0100
TZNAME:CET
DTSTART:20221030T010000
END:STANDARD
BEGIN:DAYLIGHT
TZOFFSETFROM:+0100
TZOFFSETTO:+0200
TZNAME:CEST
DTSTART:20230326T010000
END:DAYLIGHT
BEGIN:STANDARD
TZOFFSETFROM:+0200
TZOFFSETTO:+0100
TZNAME:CET
DTSTART:20231029T010000
END:STANDARD
END:VTIMEZONE
BEGIN:VEVENT
DTSTART;TZID=Europe/Berlin:20220202T140000
DTEND;TZID=Europe/Berlin:20220202T160000
DTSTAMP:20260423T213344
CREATED:20220129T180443Z
LAST-MODIFIED:20220129T180443Z
UID:3565-1643810400-1643817600@www.asta-wuppertal.de
SUMMARY:30. AStA Plenum am 02.02.2021
DESCRIPTION:Liebe Mitglieder des AStAs\, FSRKs und des StuPas\,\nliebe Hochschulaktive und Interessierte\, \nwir laden euch ganz herzlich zum 30. ordentlichen AStA Plenum der Amtszeit 2021/22\, am Mittwoch den 02.02.2021 um 14:00 UHR ein. Dieses Plenum wird ein digitales AStA-Plenum sein und über die Plattform Zoom stattfinden. Um an dem Plenum teilzunehmen braucht es keine Anmeldung oder Registrierung. \nBeitreten könnt ihr entweder indem ihr auf diesen Link klickt https://uni-wuppertal.zoom.us/j/98501567387?pwd=eXdSMm5ibmRSeEdGVlpnbnRVUyt0Zz09\noder die Meeting-ID auf der Zoom Seite selbst eingebt (Meeting-ID: 985 0156 7387 Passwort: Plenum2122). \nBeschluss der Anträge erfolgt wie gewohnt auf dem Plenum. \nWir schlagen folgende Tagesordnung vor: \n1. Begrüßung & Regularia\n2. Anträge\n3. Änderung der Geschäftsordnung des AStAs\n4. Berichte & Projekte\n5. Termine & Sonstiges \nNach Möglichkeit sollten Anträge vor dem Plenum in digitaler Form eingereicht werden. Ein Antragsformular findet ihr auf der Homepage des AStA.\nSollten AStA-Mitglieder nicht teilnehmen können\, so bitten wir um eine kurze schriftliche Rückmeldung.
URL:https://www.asta-wuppertal.de/veranstaltungen/30-asta-plenum-am-02-02-2021/
LOCATION:Zoom
ORGANIZER;CN="AStA der Bergischen Universit%C3%A4t Wuppertal":MAILTO:asta@asta.uni-wuppertal.de
END:VEVENT
BEGIN:VEVENT
DTSTART;TZID=Europe/Berlin:20220216T140000
DTEND;TZID=Europe/Berlin:20220216T160000
DTSTAMP:20260423T213344
CREATED:20220212T114102Z
LAST-MODIFIED:20220212T114102Z
UID:3579-1645020000-1645027200@www.asta-wuppertal.de
SUMMARY:31. AStA Plenum am 16.02.2022
DESCRIPTION:Liebe Mitglieder des AStAs\, FSRKs und des StuPas\,\nliebe Hochschulaktive und Interessierte\, \nwir laden euch ganz herzlich zum 31. ordentlichen AStA Plenum der Amtszeit 2021/22\, am Mittwoch den 16.02.2021 um 14:00 UHR ein. Dieses Plenum wird ein digitales AStA-Plenum sein und über die Plattform Zoom stattfinden. Um an dem Plenum teilzunehmen braucht es keine Anmeldung oder Registrierung. \nBeitreten könnt ihr entweder indem ihr auf diesen Link klickt  https://uni-wuppertal.zoom.us/j/98501567387?pwd=eXdSMm5ibmRSeEdGVlpnbnRVUyt0Zz09\noder die Meeting-ID auf der Zoom Seite selbst eingebt (Meeting-ID: 985 0156 7387 Passwort: Plenum2122). \nBeschluss der Anträge erfolgt wie gewohnt auf dem Plenum. \nWir schlagen folgende Tagesordnung vor: \n1. Begrüßung & Regularia\n2. Anträge\n3. Berichte & Projekte\n4. Termine & Sonstiges \nNach Möglichkeit sollten Anträge vor dem Plenum in digitaler Form eingereicht werden. Ein Antragsformular findet ihr auf der Homepage des AStA.\nSollten AStA-Mitglieder nicht teilnehmen können\, so bitten wir um eine kurze schriftliche Rückmeldung.
URL:https://www.asta-wuppertal.de/veranstaltungen/31-asta-plenum-am-16-02-2022/
LOCATION:Zoom
ORGANIZER;CN="AStA der Bergischen Universit%C3%A4t Wuppertal":MAILTO:asta@asta.uni-wuppertal.de
END:VEVENT
END:VCALENDAR