BEGIN:VCALENDAR
VERSION:2.0
PRODID:-//AStA - ECPv6.15.20//NONSGML v1.0//EN
CALSCALE:GREGORIAN
METHOD:PUBLISH
X-ORIGINAL-URL:https://www.asta-wuppertal.de
X-WR-CALDESC:Veranstaltungen für AStA
REFRESH-INTERVAL;VALUE=DURATION:PT1H
X-Robots-Tag:noindex
X-PUBLISHED-TTL:PT1H
BEGIN:VTIMEZONE
TZID:Europe/Berlin
BEGIN:DAYLIGHT
TZOFFSETFROM:+0100
TZOFFSETTO:+0200
TZNAME:CEST
DTSTART:20200329T010000
END:DAYLIGHT
BEGIN:STANDARD
TZOFFSETFROM:+0200
TZOFFSETTO:+0100
TZNAME:CET
DTSTART:20201025T010000
END:STANDARD
BEGIN:DAYLIGHT
TZOFFSETFROM:+0100
TZOFFSETTO:+0200
TZNAME:CEST
DTSTART:20210328T010000
END:DAYLIGHT
BEGIN:STANDARD
TZOFFSETFROM:+0200
TZOFFSETTO:+0100
TZNAME:CET
DTSTART:20211031T010000
END:STANDARD
BEGIN:DAYLIGHT
TZOFFSETFROM:+0100
TZOFFSETTO:+0200
TZNAME:CEST
DTSTART:20220327T010000
END:DAYLIGHT
BEGIN:STANDARD
TZOFFSETFROM:+0200
TZOFFSETTO:+0100
TZNAME:CET
DTSTART:20221030T010000
END:STANDARD
END:VTIMEZONE
BEGIN:VEVENT
DTSTART;TZID=Europe/Berlin:20210707T140000
DTEND;TZID=Europe/Berlin:20210707T160000
DTSTAMP:20260424T082837
CREATED:20210703T093404Z
LAST-MODIFIED:20210703T093404Z
UID:3365-1625666400-1625673600@www.asta-wuppertal.de
SUMMARY:14. AStA Plenum am 07.07.2021
DESCRIPTION:Liebe Mitglieder des AStAs\, FSRKs und des StuPas\,\nliebe Hochschulaktive und Interessierte\, \nwir laden euch ganz herzlich zum 14. ordentlichen und 14. digitalen AStA-Plenum der Amtszeit 2021/22\, am Mittwoch den 07.07.2021 um 14:00 UHR ein. Dieses Plenum wird ein digitales AStA-Plenum sein und über die Plattform Zoom stattfinden. Um an dem Plenum teilzunehmen braucht es keine Anmeldung oder Registrierung.\nBeitreten könnt ihr entweder indem ihr auf diesen Link klickt https://uni-wuppertal.zoom.us/j/98501567387?pwd=eXdSMm5ibmRSeEdGVlpnbnRVUyt0Zz09\noder die Meeting-ID auf der Zoom Seite selbst eingebt (Meeting-ID: 985 0156 7387 Passwort: Plenum2122). \nAn alle Referent*innen: Durch die Änderung der GO ist es wieder möglich in Person (bzw. über Zoom) abzustimmen; die Anträge werden also nicht mehr per Umlaufbeschluss beschlossen\, sondern direkt auf dem Plenum. \nWir schlagen folgende Tagesordnung vor: \n1. Begrüßung & Regularia\n2. Anträge\n3. Berichte & Projekte\n4. Termine & Sonstiges \nNach Möglichkeit sollten Anträge vor dem Plenum in digitaler Form eingereicht werden. Ein Antragsformular findet ihr auf der Homepage des AStA.\nSollten AStA-Mitglieder nicht teilnehmen können\, so bitten wir um eine kurze schriftliche Rückmeldung.
URL:https://www.asta-wuppertal.de/veranstaltungen/14-asta-plenum-am-07-07-2021/
LOCATION:Zoom
ORGANIZER;CN="AStA der Bergischen Universit%C3%A4t Wuppertal":MAILTO:asta@asta.uni-wuppertal.de
END:VEVENT
BEGIN:VEVENT
DTSTART;TZID=Europe/Berlin:20210714T140000
DTEND;TZID=Europe/Berlin:20210714T160000
DTSTAMP:20260424T082837
CREATED:20210708T132435Z
LAST-MODIFIED:20210708T132435Z
UID:3373-1626271200-1626278400@www.asta-wuppertal.de
SUMMARY:15. AStA Plenum am 14.07.2021
DESCRIPTION:Liebe Mitglieder des AStAs\, FSRKs und des StuPas\,\nliebe Hochschulaktive und Interessierte\, \nwir laden euch ganz herzlich zum 15. ordentlichen und 15. digitalen AStA-Plenum der Amtszeit 2021/22\, am Mittwoch den 14.07.2021 um 14:00 UHR ein. Dieses Plenum wird ein digitales AStA-Plenum sein und über die Plattform Zoom stattfinden. Um an dem Plenum teilzunehmen braucht es keine Anmeldung oder Registrierung.\nBeitreten könnt ihr entweder indem ihr auf diesen Link klickt https://uni-wuppertal.zoom.us/j/98501567387?pwd=eXdSMm5ibmRSeEdGVlpnbnRVUyt0Zz09\noder die Meeting-ID auf der Zoom Seite selbst eingebt (Meeting-ID: 985 0156 7387 Passwort: Plenum2122). \nAn alle Referent*innen: Durch die Änderung der GO ist es wieder möglich in Person (bzw. über Zoom) abzustimmen; die Anträge werden also nicht mehr per Umlaufbeschluss beschlossen\, sondern direkt auf dem Plenum. \nWir schlagen folgende Tagesordnung vor: \n1. Begrüßung & Regularia\n2. Anträge\n3. Berichte & Projekte\n4. Termine & Sonstiges \nNach Möglichkeit sollten Anträge vor dem Plenum in digitaler Form eingereicht werden. Ein Antragsformular findet ihr auf der Homepage des AStA.\nSollten AStA-Mitglieder nicht teilnehmen können\, so bitten wir um eine kurze schriftliche Rückmeldung.
URL:https://www.asta-wuppertal.de/veranstaltungen/15-asta-plenum-am-14-07-2021/
LOCATION:Zoom
ORGANIZER;CN="AStA der Bergischen Universit%C3%A4t Wuppertal":MAILTO:asta@asta.uni-wuppertal.de
END:VEVENT
BEGIN:VEVENT
DTSTART;TZID=Europe/Berlin:20210721T140000
DTEND;TZID=Europe/Berlin:20210721T160000
DTSTAMP:20260424T082837
CREATED:20210718T074210Z
LAST-MODIFIED:20210718T074210Z
UID:3397-1626876000-1626883200@www.asta-wuppertal.de
SUMMARY:16. AStA Plenum am 21.07.2021
DESCRIPTION:Liebe Mitglieder des AStAs\, FSRKs und des StuPas\,\nliebe Hochschulaktive und Interessierte\, \nwir laden euch ganz herzlich zum 16. ordentlichen und 16. digitalen AStA-Plenum der Amtszeit 2021/22\, am Mittwoch den 21.07.2021 um 14:00 UHR ein. Dieses Plenum wird ein digitales AStA-Plenum sein und über die Plattform Zoom stattfinden. Um an dem Plenum teilzunehmen braucht es keine Anmeldung oder Registrierung. \nAufgrund der vorlesungsfreien Zeit wird das darauffolgende Plenum erst am 04.08 stattfinden\, bitte beachtet dies bei noch einzubringenden Anträgen. \nBeitreten könnt ihr entweder indem ihr auf diesen Link klickt https://uni-wuppertal.zoom.us/j/98501567387?pwd=eXdSMm5ibmRSeEdGVlpnbnRVUyt0Zz09\noder die Meeting-ID auf der Zoom Seite selbst eingebt (Meeting-ID: 985 0156 7387 Passwort: Plenum2122). \nAn alle Referent*innen: Durch die Änderung der GO ist es wieder möglich in Person (bzw. über Zoom) abzustimmen; die Anträge werden also nicht mehr per Umlaufbeschluss beschlossen\, sondern direkt auf dem Plenum. \nBesagte GO soll auch auf diesem Plenum erneut geändert werden (siehe Anhang). \nWir schlagen folgende Tagesordnung vor: \n1. Begrüßung & Regularia\n2. GO-Änderung\n3. Anträge\n4. Berichte & Projekte\n5. Termine & Sonstiges \nNach Möglichkeit sollten Anträge vor dem Plenum in digitaler Form eingereicht werden. Ein Antragsformular findet ihr auf der Homepage des AStA.\nSollten AStA-Mitglieder nicht teilnehmen können\, so bitten wir um eine kurze schriftliche Rückmeldung.
URL:https://www.asta-wuppertal.de/veranstaltungen/16-asta-plenum-am-21-07-2021/
LOCATION:Zoom
ORGANIZER;CN="AStA der Bergischen Universit%C3%A4t Wuppertal":MAILTO:asta@asta.uni-wuppertal.de
END:VEVENT
BEGIN:VEVENT
DTSTART;TZID=Europe/Berlin:20210728T180000
DTEND;TZID=Europe/Berlin:20210728T200000
DTSTAMP:20260424T082837
CREATED:20210715T203308Z
LAST-MODIFIED:20210715T203411Z
UID:3385-1627495200-1627502400@www.asta-wuppertal.de
SUMMARY:Gender und Schule
DESCRIPTION:in Kooperation mit: GEW Hochschulinformationsbüro Bochum und GEW Hochschulinformationsbüro Wuppertal \nDer Vortrag stellt eine Einführung in den Bereich Gender & Schule dar und benennt relevante Ergebnisse und Debatten der feministischen Schul- und Geschlechterforschung.\nEin besonderer Fokus wird auf sexualisierte Diskriminierung und Gewalt im Schulkontext gelegt\, da diese Thematik in der Lehrer*innenausbildung oder später in der beruflichen Praxis kaum eine Rolle spielt\, aber deren Abbau einer gemeinsamen Anstrengung bedarf. \nLaura Chlebos arbeitet als wissenschaftliche Mitarbeiterin am Marie Jahoda Center for International Gender Studies an der Ruhr- Uni Bochum. Dort koordiniert Sie Unser Campus – eine Kampagne gegen sexualisierte Diskriminierung und Gewalt. Sie war an der Konzeption der Awarenesskampagne Erkenne die Grenze in Kooperation mit der Stadt Bochum und der Bogestra beteiligt und gründete 2014 zudem das Blogprojekt Feminismus im Pott. \nZoom-Meeting beitreten\nhttps://us02web.zoom.us/j/89144159770?pwd=K1lBZ0d0bHY0Ykt4OGhOeVJtLzBHQT09 \nMeeting-ID: 891 4415 9770\nKenncode: cy0L1H
URL:https://www.asta-wuppertal.de/veranstaltungen/gender-und-schule/
LOCATION:Zoom
ORGANIZER;CN="AStA der Bergischen Universit%C3%A4t Wuppertal":MAILTO:asta@asta.uni-wuppertal.de
END:VEVENT
END:VCALENDAR