BEGIN:VCALENDAR
VERSION:2.0
PRODID:-//AStA - ECPv6.15.20//NONSGML v1.0//EN
CALSCALE:GREGORIAN
METHOD:PUBLISH
X-WR-CALNAME:AStA
X-ORIGINAL-URL:https://www.asta-wuppertal.de
X-WR-CALDESC:Veranstaltungen für AStA
REFRESH-INTERVAL;VALUE=DURATION:PT1H
X-Robots-Tag:noindex
X-PUBLISHED-TTL:PT1H
BEGIN:VTIMEZONE
TZID:Europe/Berlin
BEGIN:DAYLIGHT
TZOFFSETFROM:+0100
TZOFFSETTO:+0200
TZNAME:CEST
DTSTART:20200329T010000
END:DAYLIGHT
BEGIN:STANDARD
TZOFFSETFROM:+0200
TZOFFSETTO:+0100
TZNAME:CET
DTSTART:20201025T010000
END:STANDARD
BEGIN:DAYLIGHT
TZOFFSETFROM:+0100
TZOFFSETTO:+0200
TZNAME:CEST
DTSTART:20210328T010000
END:DAYLIGHT
BEGIN:STANDARD
TZOFFSETFROM:+0200
TZOFFSETTO:+0100
TZNAME:CET
DTSTART:20211031T010000
END:STANDARD
BEGIN:DAYLIGHT
TZOFFSETFROM:+0100
TZOFFSETTO:+0200
TZNAME:CEST
DTSTART:20220327T010000
END:DAYLIGHT
BEGIN:STANDARD
TZOFFSETFROM:+0200
TZOFFSETTO:+0100
TZNAME:CET
DTSTART:20221030T010000
END:STANDARD
END:VTIMEZONE
BEGIN:VEVENT
DTSTART;TZID=Europe/Berlin:20210303T140000
DTEND;TZID=Europe/Berlin:20210303T160000
DTSTAMP:20260424T145705
CREATED:20210228T094321Z
LAST-MODIFIED:20210228T094321Z
UID:3222-1614780000-1614787200@www.asta-wuppertal.de
SUMMARY:AStA-Plenum 03.02.2021
DESCRIPTION:Liebe Mitglieder des AStAs\, des StuPas und der FSRK\,\nliebe Hochschulaktive und Interessierte\, \nhiermit laden wir euch ganz herzlich zum 36. ordentlichen\, 35. digitalen und letzten AStA-Plenum der Amtszeit 2020/21\, am Mittwoch den 03.03.2021 um 14:00 Uhr ein. Dieses Plenum wird ein digitales AStA-Plenum sein und über die Plattform Zoom stattfinden. Um an dem Plenum teilzunehmen braucht es keine Anmeldung oder Registrierung. Beitreten könnt ihr entweder indem ihr auf diesen Link klickt https://uni-wuppertal.zoom.us/j/97366018873?pwd=UFdnZmo5Y3ZqYlpGazZnM29iWE0vdz09\noder die Meeting-ID auf der Zoom Seite selber eingebt (Meeting-ID: 973 6601 8873; Passwort: AStA20/21). \nWir schlagen folgende Tagesordnung vor: \n1. Begrüßung & Regularia\n2. Anträge (Nur Besprechung\, ein Beschluss erfolgt danach per Umlaufverfahren)\n3. Berichte & Projekte\n4. Termine & Sonstiges \nNach Möglichkeit sollten Anträge vor dem Plenum in digitaler Form eingereicht werden. Ein Antragsformular findet ihr auf der Homepage des AStA.\nSollten AStA-Mitglieder nicht teilnehmen können\, so bitten wir um eine kurze schriftliche Rückmeldung. \nMit freundlichen Grüßen\, \nPhilip Cramer\nJoshua Gottschalk\nSoufian Goudi
URL:https://www.asta-wuppertal.de/veranstaltungen/asta-plenum-03-02-2021-2/
ORGANIZER;CN="AStA der Bergischen Universit%C3%A4t Wuppertal":MAILTO:asta@asta.uni-wuppertal.de
END:VEVENT
BEGIN:VEVENT
DTSTART;TZID=Europe/Berlin:20210310T140000
DTEND;TZID=Europe/Berlin:20210310T160000
DTSTAMP:20260424T145705
CREATED:20210307T103625Z
LAST-MODIFIED:20210307T103625Z
UID:3235-1615384800-1615392000@www.asta-wuppertal.de
SUMMARY:AStA-Plenum 10.03.2021
DESCRIPTION:Liebe Mitglieder des AStAs\, des StuPas und der FSRK\,\nliebe Hochschulaktive und Interessierte\, \nhiermit laden wir euch ganz herzlich zum 1. ordentlichen und 1. digitalen AStA-Plenum der Amtszeit 2021/22\, am Mittwoch den 10.03.2021 um 14:00 Uhr ein. Dieses Plenum wird ein digitales AStA-Plenum sein und über die Plattform Zoom stattfinden. Um an dem Plenum teilzunehmen braucht es keine Anmeldung oder Registrierung. Beitreten könnt ihr entweder indem ihr auf diesen Link klickt https://uni-wuppertal.zoom.us/j/98501567387?pwd=L2hUUmc5LzVudHh5NHBBc2hpU3ZqQT09\noder die Meeting-ID auf der Zoom Seite selber eingebt (Meeting-ID: 985 0156 7387 Passwort: f82sa7vd). \nWir schlagen folgende Tagesordnung vor: \n1. Begrüßung & Regularia\n2. Wahl der Beauftragten\n3. Anträge (Nur Besprechung\, ein Beschluss erfolgt danach per Umlaufverfahren)\n4. Berichte & Projekte\n5. Termine & Sonstiges \nNach Möglichkeit sollten Anträge vor dem Plenum in digitaler Form eingereicht werden. Ein Antragsformular findet ihr auf der Homepage des AStA.\nSollten AStA-Mitglieder nicht teilnehmen können\, so bitten wir um eine kurze schriftliche Rückmeldung. \nMit freundlichen Grüßen\, \nBenjamin Fachinger\nJoshua Gottschalk\nTorben Klebert
URL:https://www.asta-wuppertal.de/veranstaltungen/asta-plenum-10-03-2021/
ORGANIZER;CN="AStA der Bergischen Universit%C3%A4t Wuppertal":MAILTO:asta@asta.uni-wuppertal.de
END:VEVENT
END:VCALENDAR