BEGIN:VCALENDAR
VERSION:2.0
PRODID:-//AStA - ECPv6.15.20//NONSGML v1.0//EN
CALSCALE:GREGORIAN
METHOD:PUBLISH
X-WR-CALNAME:AStA
X-ORIGINAL-URL:https://www.asta-wuppertal.de
X-WR-CALDESC:Veranstaltungen für AStA
REFRESH-INTERVAL;VALUE=DURATION:PT1H
X-Robots-Tag:noindex
X-PUBLISHED-TTL:PT1H
BEGIN:VTIMEZONE
TZID:Europe/Berlin
BEGIN:DAYLIGHT
TZOFFSETFROM:+0100
TZOFFSETTO:+0200
TZNAME:CEST
DTSTART:20230326T010000
END:DAYLIGHT
BEGIN:STANDARD
TZOFFSETFROM:+0200
TZOFFSETTO:+0100
TZNAME:CET
DTSTART:20231029T010000
END:STANDARD
BEGIN:DAYLIGHT
TZOFFSETFROM:+0100
TZOFFSETTO:+0200
TZNAME:CEST
DTSTART:20240331T010000
END:DAYLIGHT
BEGIN:STANDARD
TZOFFSETFROM:+0200
TZOFFSETTO:+0100
TZNAME:CET
DTSTART:20241027T010000
END:STANDARD
BEGIN:DAYLIGHT
TZOFFSETFROM:+0100
TZOFFSETTO:+0200
TZNAME:CEST
DTSTART:20250330T010000
END:DAYLIGHT
BEGIN:STANDARD
TZOFFSETFROM:+0200
TZOFFSETTO:+0100
TZNAME:CET
DTSTART:20251026T010000
END:STANDARD
END:VTIMEZONE
BEGIN:VEVENT
DTSTART;TZID=Europe/Berlin:20240612T140000
DTEND;TZID=Europe/Berlin:20240612T160000
DTSTAMP:20260422T134227
CREATED:20240609T183005Z
LAST-MODIFIED:20240609T183005Z
UID:4494-1718200800-1718208000@www.asta-wuppertal.de
SUMMARY:9. ordentliches AStA-Plenum
DESCRIPTION:Liebe alle\, \nwir treffen uns am 12.06.2024 um 14 Uhr zum 9. ordentlichen AStA-Plenum der Amtszeit 2024/25 im Großraumbüro auf der AStA-Ebene.\nUnser regelmäßiger Termin für das Plenum wird im Sommersemester Mittwoch\, 14 Uhr sein. \nWir schlagen folgende Tagesordnung vor:\nTOP1 Begrüßung und Regularien\nTOP2 Anträge\nTOP3 Berichte und Projekte\nTOP4 Termine und Sonstiges \nBitte stellt eure Anträge ans Plenum im Vorfeld der Sitzung per Mail an vorsitz@asta.uni-wuppertal.de. Das entsprechende Antragsformular findet ihr auf der AStA-Webseite.\nhttps://www.asta-wuppertal.de/wp-content/uploads/2022/06/AStA-Antragsformular.pdf \nSolidarische Grüße\, \nFelix\, Till und Levin
URL:https://www.asta-wuppertal.de/veranstaltungen/9-ordentliches-asta-plenum-4/
LOCATION:AStA-Ebene (ME.04)\, Max-Horkheimer-Str. 15\, Wuppertal\, 42119
ORGANIZER;CN="AStA der Bergischen Universit%C3%A4t Wuppertal":MAILTO:asta@asta.uni-wuppertal.de
END:VEVENT
END:VCALENDAR