BEGIN:VCALENDAR
VERSION:2.0
PRODID:-//AStA - ECPv6.15.20//NONSGML v1.0//EN
CALSCALE:GREGORIAN
METHOD:PUBLISH
X-WR-CALNAME:AStA
X-ORIGINAL-URL:https://www.asta-wuppertal.de
X-WR-CALDESC:Veranstaltungen für AStA
REFRESH-INTERVAL;VALUE=DURATION:PT1H
X-Robots-Tag:noindex
X-PUBLISHED-TTL:PT1H
BEGIN:VTIMEZONE
TZID:Europe/Berlin
BEGIN:DAYLIGHT
TZOFFSETFROM:+0100
TZOFFSETTO:+0200
TZNAME:CEST
DTSTART:20230326T010000
END:DAYLIGHT
BEGIN:STANDARD
TZOFFSETFROM:+0200
TZOFFSETTO:+0100
TZNAME:CET
DTSTART:20231029T010000
END:STANDARD
BEGIN:DAYLIGHT
TZOFFSETFROM:+0100
TZOFFSETTO:+0200
TZNAME:CEST
DTSTART:20240331T010000
END:DAYLIGHT
BEGIN:STANDARD
TZOFFSETFROM:+0200
TZOFFSETTO:+0100
TZNAME:CET
DTSTART:20241027T010000
END:STANDARD
BEGIN:DAYLIGHT
TZOFFSETFROM:+0100
TZOFFSETTO:+0200
TZNAME:CEST
DTSTART:20250330T010000
END:DAYLIGHT
BEGIN:STANDARD
TZOFFSETFROM:+0200
TZOFFSETTO:+0100
TZNAME:CET
DTSTART:20251026T010000
END:STANDARD
END:VTIMEZONE
BEGIN:VEVENT
DTSTART;TZID=Europe/Berlin:20240508T140000
DTEND;TZID=Europe/Berlin:20240508T160000
DTSTAMP:20260422T121819
CREATED:20240505T114314Z
LAST-MODIFIED:20240505T114314Z
UID:4457-1715176800-1715184000@www.asta-wuppertal.de
SUMMARY:6. ordentliches AStA-Plenum
DESCRIPTION:Hallo liebe Leute\, \nwir treffen uns zum 6. ordentlichen AStA-Plenum am 08.05.2024 um 14 Uhr im Großraumbüro des AStAs (ME04.19). Wir schlagen folgende Tagesordnung vor:\nTOP1 Begrüßung und Regularien\nTOP2 Anträge\nTOP3 Berichte und Projekte\nTOP4 Termine und Sonstiges \nBitte schickt eure Anträge ans Plenum im Vorfeld der Sitzung per Mail an vorsitz@ asta.uni-wuppertal.de und benutzt dafür folgendes Antragsformular: https://www.asta-wuppertal.de/wp-content/uploads/2022/06/AStA-Antragsformular.pdf \nLiebe Grüße und bis dann\nLevin\, Till und Felix
URL:https://www.asta-wuppertal.de/veranstaltungen/6-ordentliches-asta-plenum-3/
LOCATION:AStA-Ebene (ME.04)\, Max-Horkheimer-Str. 15\, Wuppertal\, 42119
ORGANIZER;CN="AStA der Bergischen Universit%C3%A4t Wuppertal":MAILTO:asta@asta.uni-wuppertal.de
END:VEVENT
END:VCALENDAR