BEGIN:VCALENDAR
VERSION:2.0
PRODID:-//AStA - ECPv6.15.20//NONSGML v1.0//EN
CALSCALE:GREGORIAN
METHOD:PUBLISH
X-WR-CALNAME:AStA
X-ORIGINAL-URL:https://www.asta-wuppertal.de
X-WR-CALDESC:Veranstaltungen für AStA
REFRESH-INTERVAL;VALUE=DURATION:PT1H
X-Robots-Tag:noindex
X-PUBLISHED-TTL:PT1H
BEGIN:VTIMEZONE
TZID:Europe/Berlin
BEGIN:DAYLIGHT
TZOFFSETFROM:+0100
TZOFFSETTO:+0200
TZNAME:CEST
DTSTART:20230326T010000
END:DAYLIGHT
BEGIN:STANDARD
TZOFFSETFROM:+0200
TZOFFSETTO:+0100
TZNAME:CET
DTSTART:20231029T010000
END:STANDARD
BEGIN:DAYLIGHT
TZOFFSETFROM:+0100
TZOFFSETTO:+0200
TZNAME:CEST
DTSTART:20240331T010000
END:DAYLIGHT
BEGIN:STANDARD
TZOFFSETFROM:+0200
TZOFFSETTO:+0100
TZNAME:CET
DTSTART:20241027T010000
END:STANDARD
BEGIN:DAYLIGHT
TZOFFSETFROM:+0100
TZOFFSETTO:+0200
TZNAME:CEST
DTSTART:20250330T010000
END:DAYLIGHT
BEGIN:STANDARD
TZOFFSETFROM:+0200
TZOFFSETTO:+0100
TZNAME:CET
DTSTART:20251026T010000
END:STANDARD
END:VTIMEZONE
BEGIN:VEVENT
DTSTART;TZID=Europe/Berlin:20240417T140000
DTEND;TZID=Europe/Berlin:20240417T160000
DTSTAMP:20260422T101431
CREATED:20240413T121412Z
LAST-MODIFIED:20240413T121412Z
UID:4434-1713362400-1713369600@www.asta-wuppertal.de
SUMMARY:4. ordentliches AStA-Plenum
DESCRIPTION:Wir treffen uns am 17.4.2024 um 14 Uhr zum 4. ordentlichen AStA-Plenum der Amtszeit 2024/25 im Großraumbüro auf der AStA-Ebene. \nUnser regelmäßiger Termin für das Plenum wird im Sommersemester Mittwoch\, 14 Uhr sein. \nWir schlagen folgende Tagesordnung vor:\nTOP1 Begrüßung und Regularien\nTOP2 Anträge\nTOP3 Berichte und Projekte\nTOP4 Termine und Sonstiges \nBitte stellt eure Anträge ans Plenum im Vorfeld der Sitzung per Mail an vorsitz@asta.uni-wuppertal.de. Das entsprechende Antragsformular findet ihr auf der AStA-Webseite.
URL:https://www.asta-wuppertal.de/veranstaltungen/4-ordentliches-asta-plenum-3/
LOCATION:AStA-Ebene (ME.04)\, Max-Horkheimer-Str. 15\, Wuppertal\, 42119
END:VEVENT
END:VCALENDAR