BEGIN:VCALENDAR
VERSION:2.0
PRODID:-//AStA - ECPv6.15.20//NONSGML v1.0//EN
CALSCALE:GREGORIAN
METHOD:PUBLISH
X-ORIGINAL-URL:https://www.asta-wuppertal.de
X-WR-CALDESC:Veranstaltungen für AStA
REFRESH-INTERVAL;VALUE=DURATION:PT1H
X-Robots-Tag:noindex
X-PUBLISHED-TTL:PT1H
BEGIN:VTIMEZONE
TZID:Europe/Berlin
BEGIN:DAYLIGHT
TZOFFSETFROM:+0100
TZOFFSETTO:+0200
TZNAME:CEST
DTSTART:20220327T010000
END:DAYLIGHT
BEGIN:STANDARD
TZOFFSETFROM:+0200
TZOFFSETTO:+0100
TZNAME:CET
DTSTART:20221030T010000
END:STANDARD
BEGIN:DAYLIGHT
TZOFFSETFROM:+0100
TZOFFSETTO:+0200
TZNAME:CEST
DTSTART:20230326T010000
END:DAYLIGHT
BEGIN:STANDARD
TZOFFSETFROM:+0200
TZOFFSETTO:+0100
TZNAME:CET
DTSTART:20231029T010000
END:STANDARD
BEGIN:DAYLIGHT
TZOFFSETFROM:+0100
TZOFFSETTO:+0200
TZNAME:CEST
DTSTART:20240331T010000
END:DAYLIGHT
BEGIN:STANDARD
TZOFFSETFROM:+0200
TZOFFSETTO:+0100
TZNAME:CET
DTSTART:20241027T010000
END:STANDARD
END:VTIMEZONE
BEGIN:VEVENT
DTSTART;TZID=Europe/Berlin:20231219T180000
DTEND;TZID=Europe/Berlin:20231219T193000
DTSTAMP:20260424T122455
CREATED:20230913T105817Z
LAST-MODIFIED:20231011T145713Z
UID:4217-1703008800-1703014200@www.asta-wuppertal.de
SUMMARY:(Un)Gesunde Städte: Wasser\, Boden und nachhaltige Stadtentwicklung (Ringvorlesung)
DESCRIPTION:Bei diesem Termin der Ringvorlesung „Klimakrise & Nachhaltigkeit“ werden Jörg Rinklebe und Anja Bierwith spannende Sachen erzählen.
URL:https://www.asta-wuppertal.de/veranstaltungen/ungesunde-staedte-wasser-boden-und-nachhaltige-stadtentwicklung-ringvorlesung/
LOCATION:Wuppertal Institut (Aula)\, Döppersberg 19\, Wuppertal\, 42103\, Deutschland
END:VEVENT
END:VCALENDAR