BEGIN:VCALENDAR
VERSION:2.0
PRODID:-//AStA - ECPv6.15.20//NONSGML v1.0//EN
CALSCALE:GREGORIAN
METHOD:PUBLISH
X-WR-CALNAME:AStA
X-ORIGINAL-URL:https://www.asta-wuppertal.de
X-WR-CALDESC:Veranstaltungen für AStA
REFRESH-INTERVAL;VALUE=DURATION:PT1H
X-Robots-Tag:noindex
X-PUBLISHED-TTL:PT1H
BEGIN:VTIMEZONE
TZID:Europe/Berlin
BEGIN:DAYLIGHT
TZOFFSETFROM:+0100
TZOFFSETTO:+0200
TZNAME:CEST
DTSTART:20220327T010000
END:DAYLIGHT
BEGIN:STANDARD
TZOFFSETFROM:+0200
TZOFFSETTO:+0100
TZNAME:CET
DTSTART:20221030T010000
END:STANDARD
BEGIN:DAYLIGHT
TZOFFSETFROM:+0100
TZOFFSETTO:+0200
TZNAME:CEST
DTSTART:20230326T010000
END:DAYLIGHT
BEGIN:STANDARD
TZOFFSETFROM:+0200
TZOFFSETTO:+0100
TZNAME:CET
DTSTART:20231029T010000
END:STANDARD
BEGIN:DAYLIGHT
TZOFFSETFROM:+0100
TZOFFSETTO:+0200
TZNAME:CEST
DTSTART:20240331T010000
END:DAYLIGHT
BEGIN:STANDARD
TZOFFSETFROM:+0200
TZOFFSETTO:+0100
TZNAME:CET
DTSTART:20241027T010000
END:STANDARD
END:VTIMEZONE
BEGIN:VEVENT
DTSTART;TZID=Europe/Berlin:20231025T140000
DTEND;TZID=Europe/Berlin:20231025T160000
DTSTAMP:20260422T033148
CREATED:20231022T123841Z
LAST-MODIFIED:20231022T123841Z
UID:4283-1698242400-1698249600@www.asta-wuppertal.de
SUMMARY:20. ordentliches AStA-Plenum
DESCRIPTION:Hiermit laden wir euch zum 20. ordentlichen AStA-Plenum am 25.10.2023 um 14 Uhr ein. Achtung: wir treffen uns im Wintersemester 2023/24 zu einer anderen Uhrzeit als im letzten Semester! Das Plenum findet im Großraumbüro auf der AStA-Ebene (ME04) statt.\nWir schlagen folgende Tagesordnung vor:\nTOP1 Begrüßung und Regularien\nTOP2 Anträge\nTOP3 Reflektion Semesterstart (Ersti-Woche\, Bier und Spiele\, Awarenesskonzept)\nTOP4 Berichte und Projekte\nTOP5 Termine und Sonstiges
URL:https://www.asta-wuppertal.de/veranstaltungen/20-ordentliches-asta-plenum-3/
LOCATION:AStA-Ebene (ME.04)\, Max-Horkheimer-Str. 15\, Wuppertal\, 42119
END:VEVENT
END:VCALENDAR