BEGIN:VCALENDAR
VERSION:2.0
PRODID:-//AStA - ECPv6.15.20//NONSGML v1.0//EN
CALSCALE:GREGORIAN
METHOD:PUBLISH
X-ORIGINAL-URL:https://www.asta-wuppertal.de
X-WR-CALDESC:Veranstaltungen für AStA
REFRESH-INTERVAL;VALUE=DURATION:PT1H
X-Robots-Tag:noindex
X-PUBLISHED-TTL:PT1H
BEGIN:VTIMEZONE
TZID:Europe/Berlin
BEGIN:DAYLIGHT
TZOFFSETFROM:+0100
TZOFFSETTO:+0200
TZNAME:CEST
DTSTART:20220327T010000
END:DAYLIGHT
BEGIN:STANDARD
TZOFFSETFROM:+0200
TZOFFSETTO:+0100
TZNAME:CET
DTSTART:20221030T010000
END:STANDARD
BEGIN:DAYLIGHT
TZOFFSETFROM:+0100
TZOFFSETTO:+0200
TZNAME:CEST
DTSTART:20230326T010000
END:DAYLIGHT
BEGIN:STANDARD
TZOFFSETFROM:+0200
TZOFFSETTO:+0100
TZNAME:CET
DTSTART:20231029T010000
END:STANDARD
BEGIN:DAYLIGHT
TZOFFSETFROM:+0100
TZOFFSETTO:+0200
TZNAME:CEST
DTSTART:20240331T010000
END:DAYLIGHT
BEGIN:STANDARD
TZOFFSETFROM:+0200
TZOFFSETTO:+0100
TZNAME:CET
DTSTART:20241027T010000
END:STANDARD
END:VTIMEZONE
BEGIN:VEVENT
DTSTART;TZID=Europe/Berlin:20230517T160000
DTEND;TZID=Europe/Berlin:20230517T180000
DTSTAMP:20260421T171534
CREATED:20230514T103100Z
LAST-MODIFIED:20230514T103100Z
UID:4076-1684339200-1684346400@www.asta-wuppertal.de
SUMMARY:6. ordentliches AStA-Plenum
DESCRIPTION:Am 17.05.23 um 16 Uhr findet das AStA-Plenum im Großraumbüro auf der AStA-Ebene (ME.04) statt.\nWir schlagen folgende Tagesordnung vor: \nTOP 1 Begrüßung und Regularien\nTOP 2 Anträge\nTOP 3 Berichte und Projekte\nTOP 4 Termine und Sonstiges \nBitte benutzt für Anträge ans AStA-Plenum das Antragsformular (https://www.asta-wuppertal.de/wp-content/uploads/2022/06/AStA-Antragsformular.pdf) und lasst sie uns nach Möglichkeit bis zum 17.05. um 14 Uhr per Mail (vorsitz@asta.uni-wuppertal.de) zukommen.
URL:https://www.asta-wuppertal.de/veranstaltungen/6-ordentliches-asta-plenum-2/
LOCATION:AStA-Ebene (ME.04)\, Max-Horkheimer-Str. 15\, Wuppertal\, 42119
ORGANIZER;CN="AStA der Bergischen Universit%C3%A4t Wuppertal":MAILTO:asta@asta.uni-wuppertal.de
END:VEVENT
END:VCALENDAR