BEGIN:VCALENDAR
VERSION:2.0
PRODID:-//AStA - ECPv6.15.20//NONSGML v1.0//EN
CALSCALE:GREGORIAN
METHOD:PUBLISH
X-ORIGINAL-URL:https://www.asta-wuppertal.de
X-WR-CALDESC:Veranstaltungen für AStA
REFRESH-INTERVAL;VALUE=DURATION:PT1H
X-Robots-Tag:noindex
X-PUBLISHED-TTL:PT1H
BEGIN:VTIMEZONE
TZID:Europe/Berlin
BEGIN:DAYLIGHT
TZOFFSETFROM:+0100
TZOFFSETTO:+0200
TZNAME:CEST
DTSTART:20220327T010000
END:DAYLIGHT
BEGIN:STANDARD
TZOFFSETFROM:+0200
TZOFFSETTO:+0100
TZNAME:CET
DTSTART:20221030T010000
END:STANDARD
BEGIN:DAYLIGHT
TZOFFSETFROM:+0100
TZOFFSETTO:+0200
TZNAME:CEST
DTSTART:20230326T010000
END:DAYLIGHT
BEGIN:STANDARD
TZOFFSETFROM:+0200
TZOFFSETTO:+0100
TZNAME:CET
DTSTART:20231029T010000
END:STANDARD
BEGIN:DAYLIGHT
TZOFFSETFROM:+0100
TZOFFSETTO:+0200
TZNAME:CEST
DTSTART:20240331T010000
END:DAYLIGHT
BEGIN:STANDARD
TZOFFSETFROM:+0200
TZOFFSETTO:+0100
TZNAME:CET
DTSTART:20241027T010000
END:STANDARD
END:VTIMEZONE
BEGIN:VEVENT
DTSTART;TZID=Europe/Berlin:20230503T160000
DTEND;TZID=Europe/Berlin:20230503T180000
DTSTAMP:20260421T171637
CREATED:20230430T122358Z
LAST-MODIFIED:20230430T122503Z
UID:4054-1683129600-1683136800@www.asta-wuppertal.de
SUMMARY:4. ordentliches AStA-Plenum
DESCRIPTION:Am 03.05.23 um 16 Uhr findet das AStA-Plenum im Großraumbüro auf der AStA-Ebene (ME04) statt.\nWir haben folgende Tagesordnung: \nTOP 1 Begrüßung und Regularien\nTOP 2 Anträge\nTOP 3 Berichte und Projekte\nTOP 4 Termine und Sonstiges \nBitte benutzt für Anträge ans AStA-Plenum das Antragsformular (https://www.asta-wuppertal.de/wp-content/uploads/2022/06/AStA-Antragsformular.pdf) und lasst sie uns bis 03.05. um 14 Uhr per Mail (vorsitz[at]asta.uni-wuppertal.de) zukommen.
URL:https://www.asta-wuppertal.de/veranstaltungen/4-ordentliches-asta-plenum-2/
LOCATION:AStA-Ebene (ME.04)\, Max-Horkheimer-Str. 15\, Wuppertal\, 42119
END:VEVENT
END:VCALENDAR