BEGIN:VCALENDAR
VERSION:2.0
PRODID:-//AStA - ECPv6.15.20//NONSGML v1.0//EN
CALSCALE:GREGORIAN
METHOD:PUBLISH
X-ORIGINAL-URL:https://www.asta-wuppertal.de
X-WR-CALDESC:Veranstaltungen für AStA
REFRESH-INTERVAL;VALUE=DURATION:PT1H
X-Robots-Tag:noindex
X-PUBLISHED-TTL:PT1H
BEGIN:VTIMEZONE
TZID:Europe/Berlin
BEGIN:DAYLIGHT
TZOFFSETFROM:+0100
TZOFFSETTO:+0200
TZNAME:CEST
DTSTART:20220327T010000
END:DAYLIGHT
BEGIN:STANDARD
TZOFFSETFROM:+0200
TZOFFSETTO:+0100
TZNAME:CET
DTSTART:20221030T010000
END:STANDARD
BEGIN:DAYLIGHT
TZOFFSETFROM:+0100
TZOFFSETTO:+0200
TZNAME:CEST
DTSTART:20230326T010000
END:DAYLIGHT
BEGIN:STANDARD
TZOFFSETFROM:+0200
TZOFFSETTO:+0100
TZNAME:CET
DTSTART:20231029T010000
END:STANDARD
BEGIN:DAYLIGHT
TZOFFSETFROM:+0100
TZOFFSETTO:+0200
TZNAME:CEST
DTSTART:20240331T010000
END:DAYLIGHT
BEGIN:STANDARD
TZOFFSETFROM:+0200
TZOFFSETTO:+0100
TZNAME:CET
DTSTART:20241027T010000
END:STANDARD
END:VTIMEZONE
BEGIN:VEVENT
DTSTART;TZID=Europe/Berlin:20230426T160000
DTEND;TZID=Europe/Berlin:20230426T180000
DTSTAMP:20260421T155224
CREATED:20230423T093417Z
LAST-MODIFIED:20230423T093417Z
UID:4049-1682524800-1682532000@www.asta-wuppertal.de
SUMMARY:3. ordentliches AStA-Plenum
DESCRIPTION:Am 26.04.2023 um 16:00 Uhr wird das 3. ordentliche AStA-Plenum der Amtszeit 2023/24 auf der AStA-Ebene (ME.04) im Großraumbüro stattfinden. \nWir haben folgende Tagesordnung:\nTOP1: Begrüßung und Regularien\nTOP2: Anträge\nTOP3: Berichte und Projekte\nTOP4: Termine und Sonstiges \nBitte benutzt für Anträge ans AStA-Plenum das Antragsformular (https://www.asta-wuppertal.de/wp-content/uploads/2022/06/AStA-Antragsformular.pdf) und lasst sie uns bis zum 26.04. um 14 Uhr per Mail (vorsitz@asta.uni-wuppertal.de) zukommen.
URL:https://www.asta-wuppertal.de/veranstaltungen/3-ordentliches-asta-plenum/
LOCATION:AStA-Ebene (ME.04)\, Max-Horkheimer-Str. 15\, Wuppertal\, 42119
END:VEVENT
END:VCALENDAR