BEGIN:VCALENDAR
VERSION:2.0
PRODID:-//AStA - ECPv6.15.20//NONSGML v1.0//EN
CALSCALE:GREGORIAN
METHOD:PUBLISH
X-WR-CALNAME:AStA
X-ORIGINAL-URL:https://www.asta-wuppertal.de
X-WR-CALDESC:Veranstaltungen für AStA
REFRESH-INTERVAL;VALUE=DURATION:PT1H
X-Robots-Tag:noindex
X-PUBLISHED-TTL:PT1H
BEGIN:VTIMEZONE
TZID:UTC
BEGIN:STANDARD
TZOFFSETFROM:+0000
TZOFFSETTO:+0000
TZNAME:UTC
DTSTART:20210101T000000
END:STANDARD
END:VTIMEZONE
BEGIN:VEVENT
DTSTART;TZID=UTC:20221214T160000
DTEND;TZID=UTC:20221214T180000
DTSTAMP:20260421T143550
CREATED:20221211T134737Z
LAST-MODIFIED:20221211T134737Z
UID:3938-1671033600-1671040800@www.asta-wuppertal.de
SUMMARY:25. ordentliches AStA-Plenum
DESCRIPTION:Wir treffen uns am 14.12.22 um 16 Uhr online auf zoom\, die Einwahldaten findet ihr unten. \nWir schlagen folgende Tagesordnung vor: \nTOP1: Begrüßung und Regularien \nTOP2: Anträge \nTOP3: Berichte und Projekte \nTOP4: Termine und Sonstiges \n  \nBitte lasst uns im Vorfeld der Sitzung eure Anträge per Mail (vorsitz@asta.uni-wuppertal.de) zukommen\, das Antragsformular findet ihr hier: https://www.asta-wuppertal.de/wp-content/uploads/2022/06/AStA-Antragsformular.pdf \n  \nZoom-Einwahldaten: \nhttps://uni-wuppertal.zoom.us/j/99455008447?pwd=R0lzbFZuR2s3czlhNGYycXYyb1p3QT09 \nMeeting ID: 994 5500 8447 \nPasscode: ptXpcCN4
URL:https://www.asta-wuppertal.de/veranstaltungen/25-ordentliches-asta-plenum/
LOCATION:Zoom
END:VEVENT
END:VCALENDAR