BEGIN:VCALENDAR
VERSION:2.0
PRODID:-//AStA - ECPv6.15.20//NONSGML v1.0//EN
CALSCALE:GREGORIAN
METHOD:PUBLISH
X-ORIGINAL-URL:https://www.asta-wuppertal.de
X-WR-CALDESC:Veranstaltungen für AStA
REFRESH-INTERVAL;VALUE=DURATION:PT1H
X-Robots-Tag:noindex
X-PUBLISHED-TTL:PT1H
BEGIN:VTIMEZONE
TZID:UTC
BEGIN:STANDARD
TZOFFSETFROM:+0000
TZOFFSETTO:+0000
TZNAME:UTC
DTSTART:20210101T000000
END:STANDARD
END:VTIMEZONE
BEGIN:VEVENT
DTSTART;TZID=UTC:20221019T160000
DTEND;TZID=UTC:20221019T180000
DTSTAMP:20260421T171643
CREATED:20221016T131928Z
LAST-MODIFIED:20221016T131928Z
UID:3903-1666195200-1666202400@www.asta-wuppertal.de
SUMMARY:19. ordentliches AStA-Plenum
DESCRIPTION:Wir treffen uns am 19.10.22 um 16 Uhr online auf zoom\, die Einwahldaten findet ihr unten.\nWir schlagen folgende Tagesordnung vor:\nTOP1: Begrüßung und Regularien\nTOP2: Anträge\nTOP3: Berichte und Projekte\nTOP4: Auswertung O-Woche\nTOP5: Termine und Sonstiges \nBitte lasst uns im Vorfeld der Sitzung eure Anträge per Mail (vorsitz@asta.uni-wuppertal.de) zukommen\, das Antragsformular findet ihr hier: https://www.asta-wuppertal.de/wp-content/uploads/2022/06/AStA-Antragsformular.pdf
URL:https://www.asta-wuppertal.de/veranstaltungen/19-ordentliches-asta-plenum/
LOCATION:Zoom
END:VEVENT
END:VCALENDAR