BEGIN:VCALENDAR
VERSION:2.0
PRODID:-//AStA - ECPv6.15.20//NONSGML v1.0//EN
CALSCALE:GREGORIAN
METHOD:PUBLISH
X-ORIGINAL-URL:https://www.asta-wuppertal.de
X-WR-CALDESC:Veranstaltungen für AStA
REFRESH-INTERVAL;VALUE=DURATION:PT1H
X-Robots-Tag:noindex
X-PUBLISHED-TTL:PT1H
BEGIN:VTIMEZONE
TZID:UTC
BEGIN:STANDARD
TZOFFSETFROM:+0000
TZOFFSETTO:+0000
TZNAME:UTC
DTSTART:20210101T000000
END:STANDARD
END:VTIMEZONE
BEGIN:VEVENT
DTSTART;TZID=UTC:20220914T160000
DTEND;TZID=UTC:20220914T170000
DTSTAMP:20260421T214159
CREATED:20220911T123904Z
LAST-MODIFIED:20220911T123904Z
UID:3872-1663171200-1663174800@www.asta-wuppertal.de
SUMMARY:16. ordentliches AStA-Plenum
DESCRIPTION:Wir treffen uns am 14.9.2022 um 16 Uhr zum 16. ordentlichen AStA-Plenum der Amtszeit 2022/23. Das Plenum wird in Präsenz im Großraumbüro auf der AStA-Ebene (ME04) stattfinden. Ihr seid herzlich eingeladen.\nWir schlagen folgende Tagesordnung vor:\nTOP1: Begrüßung und Regularien\nTOP2: Anträge\nTOP3: Berichte und Projekte\nTOP4: Sonstiges und Termine \nBitte lasst uns eure Anträe vor der Sitzung per E-Mail (vorsitz@asta.uni-wuppertal.de) zukommen. Das entsprechende Formular findet ihr hier: https://www.asta-wuppertal.de/wp-content/uploads/2022/06/AStA-Antragsformular.pdf
URL:https://www.asta-wuppertal.de/veranstaltungen/16-ordentliches-asta-plenum/
LOCATION:AStA-Ebene (ME.04)\, Max-Horkheimer-Str. 15\, Wuppertal\, 42119
END:VEVENT
END:VCALENDAR