BEGIN:VCALENDAR
VERSION:2.0
PRODID:-//AStA - ECPv6.15.20//NONSGML v1.0//EN
CALSCALE:GREGORIAN
METHOD:PUBLISH
X-ORIGINAL-URL:https://www.asta-wuppertal.de
X-WR-CALDESC:Veranstaltungen für AStA
REFRESH-INTERVAL;VALUE=DURATION:PT1H
X-Robots-Tag:noindex
X-PUBLISHED-TTL:PT1H
BEGIN:VTIMEZONE
TZID:UTC
BEGIN:STANDARD
TZOFFSETFROM:+0000
TZOFFSETTO:+0000
TZNAME:UTC
DTSTART:20210101T000000
END:STANDARD
END:VTIMEZONE
BEGIN:VEVENT
DTSTART;TZID=UTC:20220831T160000
DTEND;TZID=UTC:20220831T170000
DTSTAMP:20260421T183501
CREATED:20220828T123318Z
LAST-MODIFIED:20220828T123523Z
UID:3856-1661961600-1661965200@www.asta-wuppertal.de
SUMMARY:15. ordentliches AStA-Plenum
DESCRIPTION:Ihr seid herzlich eingeladen zu unserem 15. ordentlichen AStA-Plenum am 31.08.22 um 16 Uhr. Wir treffen uns auf zoom\, die Zugangsdaten findet ihr unten. \nWir schlagen folgende Tagesordnung vor:\nTOP1: Begrüßung und Regularien\nTOP2: Anträge\nTOP3: Berichte und Projekte\nTOP4: Termine und Sonstiges \nSchickt eure Anträge bitte an vorsitz@asta.uni-wuppertal.de und benutzt dafür das Antragsformular: https://www.asta-wuppertal.de/wp-content/uploads/2022/06/AStA-Antragsformular.pdf. \nSolidarische Grüße\,\nMegan \nZugangsdaten:\nhttps://uni-wuppertal.zoom.us/j/99455008447?pwd=R0lzbFZuR2s3czlhNGYycXYyb1p3QT09\nMeeting ID: 994 5500 8447\nPasscode: ptXpcCN4
URL:https://www.asta-wuppertal.de/veranstaltungen/15-ordentliches-asta-plenum/
LOCATION:Zoom
END:VEVENT
END:VCALENDAR