BEGIN:VCALENDAR
VERSION:2.0
PRODID:-//AStA - ECPv6.15.20//NONSGML v1.0//EN
CALSCALE:GREGORIAN
METHOD:PUBLISH
X-WR-CALNAME:AStA
X-ORIGINAL-URL:https://www.asta-wuppertal.de
X-WR-CALDESC:Veranstaltungen für AStA
REFRESH-INTERVAL;VALUE=DURATION:PT1H
X-Robots-Tag:noindex
X-PUBLISHED-TTL:PT1H
BEGIN:VTIMEZONE
TZID:UTC
BEGIN:STANDARD
TZOFFSETFROM:+0000
TZOFFSETTO:+0000
TZNAME:UTC
DTSTART:20210101T000000
END:STANDARD
END:VTIMEZONE
BEGIN:VEVENT
DTSTART;TZID=UTC:20220622T160000
DTEND;TZID=UTC:20220622T180000
DTSTAMP:20260423T173806
CREATED:20220619T144809Z
LAST-MODIFIED:20220619T144809Z
UID:3786-1655913600-1655920800@www.asta-wuppertal.de
SUMMARY:2. außerordentliches AStA-Plenum
DESCRIPTION:Ihr seid herzlich zum 2. außerordentlichen AStA-Plenum der Amtszeit 2022/23 eingeladen. Wir treffen uns am 22.06.2022 um 16:00 Uhr online auf zoom. Die Zugangsdaten findet ihr unten. \nWir schlagen folgende Tagesordnung vor:\nTOP1: Begrüßung und Regularien\nTOP2: Anträge\nTOP3: Berichte und Projekte\nTOP4: Termine und Sonstiges \nÄnderungswünsche für die Tagesordnung sowie Anträge an das Plenum lasst ihr uns bitte im Vorfeld der Sitzung an vorsitz@asta.uni-wuppertal.de zukommen. \nZugangsdaten für das zoom-Meeting:\nhttps://uni-wuppertal.zoom.us/j/99455008447?pwd=R0lzbFZuR2s3czlhNGYycXYyb1p3QT09 \nMeeting ID: 994 5500 8447\nPasscode: ptXpcCN4
URL:https://www.asta-wuppertal.de/veranstaltungen/2-ausserordentliches-asta-plenum-2/
LOCATION:Zoom
END:VEVENT
END:VCALENDAR