BEGIN:VCALENDAR
VERSION:2.0
PRODID:-//AStA - ECPv6.15.20//NONSGML v1.0//EN
CALSCALE:GREGORIAN
METHOD:PUBLISH
X-ORIGINAL-URL:https://www.asta-wuppertal.de
X-WR-CALDESC:Veranstaltungen für AStA
REFRESH-INTERVAL;VALUE=DURATION:PT1H
X-Robots-Tag:noindex
X-PUBLISHED-TTL:PT1H
BEGIN:VTIMEZONE
TZID:UTC
BEGIN:STANDARD
TZOFFSETFROM:+0000
TZOFFSETTO:+0000
TZNAME:UTC
DTSTART:20210101T000000
END:STANDARD
END:VTIMEZONE
BEGIN:VEVENT
DTSTART;TZID=UTC:20220508T080000
DTEND;TZID=UTC:20220508T170000
DTSTAMP:20260423T190154
CREATED:20220508T113021Z
LAST-MODIFIED:20220508T113021Z
UID:3743-1651996800-1652029200@www.asta-wuppertal.de
SUMMARY:6. ordentliches AStA-Plenum
DESCRIPTION:Hallo ihr Lieben\, \nihr seid herzlich eingeladen zum 6. ordentlichen AStA-Plenum am Mi\, 11.05. um 16 Uhr. Wir treffen uns ONLINE auf zoom – unserem abwechselndem Präsenz-online-Rhythmus entsprechend. Die Zugangsdaten findet ihr unten.\nDamit ihr planen könnt\, hier wieder die nächsten Termine:\n18.5. in Präsenz auf der AStA-Ebene\n25.5. online auf zoom\n01.06. in Präsenz auf der AStA-Ebene\n08.06. AUSFALL wegen vorlesungsfreier Woche \nFür die Sitzung am 11.05. schlagen wir folgende Tagesordnung vor:\nTOP1: Begrüßung und Regularia\nTOP2: Anträge\nTOP3: Berichte und Projekte\nTOP4: Termine und Sonstiges \nBitte lasst uns (vorsitz@asta.uni-wuppertal.de) eure Anträge ans Plenum im Vorfeld als digitales Dokument zukommen\, ein entsprechendes Antragsformular findet ihr auf der AStA-Webseite. \nMit solidarischen Grüßen\,\nMegan für den Vorsitz \nhttps://uni-wuppertal.zoom.us/j/99455008447?pwd=R0lzbFZuR2s3czlhNGYycXYyb1p3QT09 \nMeeting ID: 994 5500 8447\nPasscode: ptXpcCN4
URL:https://www.asta-wuppertal.de/veranstaltungen/6-ordentliches-asta-plenum/
LOCATION:Zoom
END:VEVENT
END:VCALENDAR