BEGIN:VCALENDAR
VERSION:2.0
PRODID:-//AStA - ECPv6.15.20//NONSGML v1.0//EN
CALSCALE:GREGORIAN
METHOD:PUBLISH
X-ORIGINAL-URL:https://www.asta-wuppertal.de
X-WR-CALDESC:Veranstaltungen für AStA
REFRESH-INTERVAL;VALUE=DURATION:PT1H
X-Robots-Tag:noindex
X-PUBLISHED-TTL:PT1H
BEGIN:VTIMEZONE
TZID:UTC
BEGIN:STANDARD
TZOFFSETFROM:+0000
TZOFFSETTO:+0000
TZNAME:UTC
DTSTART:20210101T000000
END:STANDARD
END:VTIMEZONE
BEGIN:VEVENT
DTSTART;TZID=UTC:20220413T160000
DTEND;TZID=UTC:20220413T180000
DTSTAMP:20260423T202010
CREATED:20220410T150145Z
LAST-MODIFIED:20220410T150202Z
UID:3684-1649865600-1649872800@www.asta-wuppertal.de
SUMMARY:AStA-Plenum
DESCRIPTION:Hallo liebe Leute\, \nwir laden euch herzlich ein zu unserer 3. ordentlichen Sitzung in dieser Legislaturperiode. Wir treffen uns am 13.04.22 um 16 Uhr auf zoom. Die Zugangsdaten findet ihr unten. \nUnsere vorläufige Tagesordnung sieht wie folgt aus:\nTOP1: Begrüßung und Regularia\nTOP2: Anträge\nTOP3: Berichte und Projekte\nTOP4: Termine und Sonstiges \nEs ist wie immer auch eine Änderung der Tagesordnung möglich.\nBitte schickt Anträge vor dem Plenum als digitales Dokument an vorsitz@asta.uni-wuppertal.de\, ein entsprechendes Antragsformular findet ihr auf der Webseite des AStAs. \nZugangsdaten für zoom:\nhttps://uni-wuppertal.zoom.us/j/99455008447?pwd=R0lzbFZuR2s3czlhNGYycXYyb1p3QT09 \nMeeting ID: 994 5500 8447\nPasscode: ptXpcCN4
URL:https://www.asta-wuppertal.de/veranstaltungen/asta-plenum-5/
ORGANIZER;CN="AStA der Bergischen Universit%C3%A4t Wuppertal":MAILTO:asta@asta.uni-wuppertal.de
END:VEVENT
END:VCALENDAR