BEGIN:VCALENDAR
VERSION:2.0
PRODID:-//AStA - ECPv6.15.20//NONSGML v1.0//EN
CALSCALE:GREGORIAN
METHOD:PUBLISH
X-WR-CALNAME:AStA
X-ORIGINAL-URL:https://www.asta-wuppertal.de
X-WR-CALDESC:Veranstaltungen für AStA
REFRESH-INTERVAL;VALUE=DURATION:PT1H
X-Robots-Tag:noindex
X-PUBLISHED-TTL:PT1H
BEGIN:VTIMEZONE
TZID:UTC
BEGIN:STANDARD
TZOFFSETFROM:+0000
TZOFFSETTO:+0000
TZNAME:UTC
DTSTART:20210101T000000
END:STANDARD
END:VTIMEZONE
BEGIN:VEVENT
DTSTART;TZID=UTC:20220323T140000
DTEND;TZID=UTC:20220323T160000
DTSTAMP:20260423T213347
CREATED:20220322T173021Z
LAST-MODIFIED:20220322T173021Z
UID:3636-1648044000-1648051200@www.asta-wuppertal.de
SUMMARY:AStA-Plenum
DESCRIPTION:Hallo liebe Leute\, \nihr seid herzlich eingeladen zum nächsten AStA-Plenum\, das am 23.3.22 um 14 Uhr stattfinden wird. \nWir treffen uns wieder auf zoom!\nDie Zugangsdaten fürs Plenum sind: \nhttps://uni-wuppertal.zoom.us/j/99455008447?pwd=R0lzbFZuR2s3czlhNGYycXYyb1p3QT09\nMeeting ID: 994 5500 8447\nPasscode: ptXpcCN4 \nFolgende Tagesordnungspunkte sind vorgesehen:\nTOP1: Begrüßung und Regularia\nTOP2: Anträge\nTOP3: Berichte und Projekte\nTOP4: Termine und Sonstiges \nWenn ihr Änderungswünsche für die Tagesordnung habt\, teilt sie gerne auf dem Plenum mit oder schreibt im Vorfeld an vorsitz@asta.uni-wuppertal.de. Anträge werden wie üblich am besten vor der Sitzung an den Vorsitz geschickt. \nLiebe Grüße\,\nMegan Zipse
URL:https://www.asta-wuppertal.de/veranstaltungen/asta-plenum-3/
ORGANIZER;CN="AStA der Bergischen Universit%C3%A4t Wuppertal":MAILTO:asta@asta.uni-wuppertal.de
END:VEVENT
END:VCALENDAR