BEGIN:VCALENDAR
VERSION:2.0
PRODID:-//AStA - ECPv6.15.20//NONSGML v1.0//EN
CALSCALE:GREGORIAN
METHOD:PUBLISH
X-WR-CALNAME:AStA
X-ORIGINAL-URL:https://www.asta-wuppertal.de
X-WR-CALDESC:Veranstaltungen für AStA
REFRESH-INTERVAL;VALUE=DURATION:PT1H
X-Robots-Tag:noindex
X-PUBLISHED-TTL:PT1H
BEGIN:VTIMEZONE
TZID:UTC
BEGIN:STANDARD
TZOFFSETFROM:+0000
TZOFFSETTO:+0000
TZNAME:UTC
DTSTART:20210101T000000
END:STANDARD
END:VTIMEZONE
BEGIN:VEVENT
DTSTART;TZID=UTC:20220309T140000
DTEND;TZID=UTC:20220309T160000
DTSTAMP:20260423T213344
CREATED:20220305T160915Z
LAST-MODIFIED:20220305T160915Z
UID:3592-1646834400-1646841600@www.asta-wuppertal.de
SUMMARY:1. AStA-Plenum 2022/23
DESCRIPTION:Hallo ihr Lieben\, \nmit viel Freude kann ich euch zum ersten AStA-Plenum der neuen Amtszeit einladen. Wir treffen uns dieses Mal wieder auf Zoom. \nDie Tagesordnung sieht wie folgt aus:\nTOP1: Begrüßung und Regularia\nTOP2: Wahl der Beauftragten in den AStA-Referaten\nTOP3: Anträge\nTOP4: Berichte und Projekte\nTOP5: Sonstiges und Termine \nWenn ihr Änderungswünsche für die Tagesordnung habt\, könnt ihr diese auf der Sitzung äußern oder im Vorfeld an Megan schicken. \nAnträge solltet ihr wenn möglich im Vorfeld der Sitzung an vorsitz@asta.uni-wuppertal.de schicken. \nDie Einwahldaten für unser Plenum sind:\nhttps://uni-wuppertal.zoom.us/j/98487208898?pwd=WXFwaFRnK1RDaUM4MTBhZjdJcWU1Zz09\nMeeting ID: 984 8720 8898\nPasscode: jSWM1u4U \nTelefoneinwahl:\n+49 695 050 2596 Germany\n+49 69 7104 9922 Germany\nMeeting ID: 984 8720 8898\nPasscode: 41621899 \nViele Grüße\,\nMegan
URL:https://www.asta-wuppertal.de/veranstaltungen/1-asta-plenum-2022-23/
ORGANIZER;CN="AStA der Bergischen Universit%C3%A4t Wuppertal":MAILTO:asta@asta.uni-wuppertal.de
END:VEVENT
END:VCALENDAR