BEGIN:VCALENDAR
VERSION:2.0
PRODID:-//AStA - ECPv6.15.20//NONSGML v1.0//EN
CALSCALE:GREGORIAN
METHOD:PUBLISH
X-ORIGINAL-URL:https://www.asta-wuppertal.de
X-WR-CALDESC:Veranstaltungen für AStA
REFRESH-INTERVAL;VALUE=DURATION:PT1H
X-Robots-Tag:noindex
X-PUBLISHED-TTL:PT1H
BEGIN:VTIMEZONE
TZID:Europe/Berlin
BEGIN:DAYLIGHT
TZOFFSETFROM:+0100
TZOFFSETTO:+0200
TZNAME:CEST
DTSTART:20200329T010000
END:DAYLIGHT
BEGIN:STANDARD
TZOFFSETFROM:+0200
TZOFFSETTO:+0100
TZNAME:CET
DTSTART:20201025T010000
END:STANDARD
BEGIN:DAYLIGHT
TZOFFSETFROM:+0100
TZOFFSETTO:+0200
TZNAME:CEST
DTSTART:20210328T010000
END:DAYLIGHT
BEGIN:STANDARD
TZOFFSETFROM:+0200
TZOFFSETTO:+0100
TZNAME:CET
DTSTART:20211031T010000
END:STANDARD
BEGIN:DAYLIGHT
TZOFFSETFROM:+0100
TZOFFSETTO:+0200
TZNAME:CEST
DTSTART:20220327T010000
END:DAYLIGHT
BEGIN:STANDARD
TZOFFSETFROM:+0200
TZOFFSETTO:+0100
TZNAME:CET
DTSTART:20221030T010000
END:STANDARD
END:VTIMEZONE
BEGIN:VEVENT
DTSTART;TZID=Europe/Berlin:20210623T140000
DTEND;TZID=Europe/Berlin:20210623T160000
DTSTAMP:20260424T115316
CREATED:20210620T082651Z
LAST-MODIFIED:20210620T111404Z
UID:3360-1624456800-1624464000@www.asta-wuppertal.de
SUMMARY:13. AStA Plenum am 23.06.2021
DESCRIPTION:Liebe Mitglieder des AStAs\, FSRKs und des StuPas\,\nliebe Hochschulaktive und Interessierte\, \nwir laden euch ganz herzlich zum 13. ordentlichen und 13. digitalen AStA-Plenum der Amtszeit 2021/22\, am Mittwoch den 23.06.2021 um 14:00 UHR ein. Dieses Plenum wird ein digitales AStA-Plenum sein und über die Plattform Zoom stattfinden. Um an dem Plenum teilzunehmen braucht es keine Anmeldung oder Registrierung.\nBeitreten könnt ihr entweder indem ihr auf diesen Link klickt https://uni-wuppertal.zoom.us/j/98501567387?pwd=eXdSMm5ibmRSeEdGVlpnbnRVUyt0Zz09\noder die Meeting-ID auf der Zoom Seite selbst eingebt (Meeting-ID: 985 0156 7387 Passwort: Plenum2122). \nIm Zuge der GO-Änderung müssen min. 9 Stimmberechtigte Mitglieder anwesend sein\, bitte erscheint zahlreich. \nAn alle Referent*innen: Durch die Änderung der GO ist es wieder möglich in Person (bzw. über Zoom) abzustimmen; die Anträge werden also nicht mehr per Umlaufbeschluss beschlossen\, sondern direkt auf dem Plenum. \nWir schlagen folgende Tagesordnung vor: \n1. Begrüßung & Regularia\n2. GO Änderung\n3. Anträge\n4. Berichte & Projekte\n5. Termine & Sonstiges \nNach Möglichkeit sollten Anträge vor dem Plenum in digitaler Form eingereicht werden. Ein Antragsformular findet ihr auf der Homepage des AStA.\nSollten AStA-Mitglieder nicht teilnehmen können\, so bitten wir um eine kurze schriftliche Rückmeldung.
URL:https://www.asta-wuppertal.de/veranstaltungen/13-asta-plenum-am-23-06-2021/
LOCATION:Zoom
ORGANIZER;CN="AStA der Bergischen Universit%C3%A4t Wuppertal":MAILTO:asta@asta.uni-wuppertal.de
END:VEVENT
END:VCALENDAR